BEGIN:VCALENDAR
VERSION:2.0
PRODID:-//ChamberMaster//Event Calendar 2.0//EN
METHOD:PUBLISH
X-PUBLISHED-TTL:P3D
REFRESH-INTERVAL:P3D
CALSCALE:GREGORIAN
BEGIN:VEVENT
DTSTART:20200314T130000Z
DTEND:20200314T160000Z
X-MICROSOFT-CDO-ALLDAYEVENT:FALSE
SUMMARY:Winter Challenge Ski Race for New England Disabled Sports
DESCRIPTION:Join us for the 32nd Annual Winter Challenge Ski Race! \n8-9 AM Racer Registration at NEDS & Race begins at 10 AM on Coolidge Street\, Loon Mountain\n\nRacers are encouraged to dress in theme!\n\n5 People per team and must include 1 student-athlete with a disability (NEDS can provide if needed).\n\nPrizes for top teams!
X-ALT-DESC;FMTTYPE=text/html:Join us for the 32nd Annual Winter Challenge Ski Race!&nbsp\;\n<p>8-9 AM Racer Registration at NEDS &amp\; Race begins at 10 AM on Coolidge Street\, Loon Mountain</p>\n\n<p>Racers are encouraged to dress in theme!</p>\n\n<p>5 People per team and must include 1 student-athlete with a disability (NEDS can provide if needed).</p>\n\n<p>Prizes for top teams!</p>\n
LOCATION:Coolidge Street\, Loon Mountain\, Lincoln\, NH
UID:e.2885.15664
SEQUENCE:3
DTSTAMP:20260423T114841Z
URL:https://business.littletonareachamber.com/events/details/winter-challenge-ski-race-for-new-england-disabled-sports-15664
END:VEVENT

END:VCALENDAR
