BEGIN:VCALENDAR
VERSION:2.0
PRODID:-//ChamberMaster//Event Calendar 2.0//EN
METHOD:PUBLISH
X-PUBLISHED-TTL:P3D
REFRESH-INTERVAL:P3D
CALSCALE:GREGORIAN
BEGIN:VEVENT
DTSTART:20200314T230000Z
DTEND:20200315T020000Z
X-MICROSOFT-CDO-ALLDAYEVENT:FALSE
SUMMARY:Winter Challenge Casino Night Charity Event for New England Disabled Sports
DESCRIPTION:Join us for our 32nd Annual Winter Challenge Charity Event. Back by popular demand...Casino Night! Includes a $100 NEDS casino chip\, passed and hors d'oeuvre stations\, silent & live auctions\, popular casino games (no cash payouts) and dancing!
X-ALT-DESC;FMTTYPE=text/html:<span style="font-size:14px"><span style="font-family:arial\,helvetica\,sans-serif">Join us for our 32nd Annual Winter Challenge Charity Event. Back by popular demand...Casino Night! Includes a $100 NEDS casino chip\, passed and hors d&rsquo\;oeuvre stations\, silent &amp\; live auctions\, popular casino games (no cash payouts) and dancing!</span></span>
LOCATION:Governor Adams Lodge\, Loon Mountain Resort\, Lincoln\, NH
UID:e.2885.15663
SEQUENCE:3
DTSTAMP:20260423T115014Z
URL:https://business.littletonareachamber.com/events/details/winter-challenge-casino-night-charity-event-for-new-england-disabled-sports-15663
END:VEVENT

END:VCALENDAR
