BEGIN:VCALENDAR
VERSION:2.0
PRODID:-//ChamberMaster//Event Calendar 2.0//EN
METHOD:PUBLISH
X-PUBLISHED-TTL:P3D
REFRESH-INTERVAL:P3D
CALSCALE:GREGORIAN
BEGIN:VEVENT
DTSTART:20200221T200000Z
DTEND:20200221T220000Z
X-MICROSOFT-CDO-ALLDAYEVENT:FALSE
SUMMARY:Tribute to Ellen Morrow
DESCRIPTION:Littleton Public Library is celebrating the life and work of beloved librarian Ellen Morrow\, who passed away in September.  The library is honoring her legacy through a memorial project that will be unveiled at this event.  Share memories of the Story Lady\, add to the memorial scrapbook\, and honor the woman who brought magic and wonder to so many over the years.  Light refreshments will be served.
X-ALT-DESC;FMTTYPE=text/html:Littleton Public Library is celebrating the life and work of beloved librarian Ellen Morrow\, who passed away in September.&nbsp\; The library is honoring her legacy through a memorial project that will be unveiled at this event.&nbsp\; Share memories of the Story Lady\, add to the memorial scrapbook\, and honor the woman who brought magic and wonder to so many over the years.&nbsp\; Light refreshments will be served.
LOCATION:Littleton Public Library 92 Main St Littleton NH 03561
UID:e.2885.15415
SEQUENCE:3
DTSTAMP:20260423T100157Z
URL:https://business.littletonareachamber.com/events/details/tribute-to-ellen-morrow-15415
END:VEVENT

END:VCALENDAR
