BEGIN:VCALENDAR
VERSION:2.0
PRODID:-//ChamberMaster//Event Calendar 2.0//EN
METHOD:PUBLISH
X-PUBLISHED-TTL:P3D
REFRESH-INTERVAL:P3D
CALSCALE:GREGORIAN
BEGIN:VEVENT
DTSTART:20200624T180000Z
DTEND:20200624T190000Z
X-MICROSOFT-CDO-ALLDAYEVENT:FALSE
SUMMARY:Travel Industry Update with Collette
DESCRIPTION:Join the Chamber and Collette Tours for a travel industry update in light of the COVID-19 pandemic worldwide. We'll hear about the status of travel now\, and what it looks like in the future. \n\nWe'll also learn more about the Chamber's scheduled travel to Ireland in March 2021.\n\n\n\nYour event registration confirmation will contain Zoom login information.
X-ALT-DESC;FMTTYPE=text/html:Join the Chamber and Collette Tours for a travel industry update in light of the COVID-19 pandemic worldwide. We&#39\;ll hear about the status of travel now\, and what it looks like in the future.&nbsp\;<br />\nWe&#39\;ll also learn more about the Chamber&#39\;s scheduled travel to Ireland in March 2021.<br />\n<br />\n<em><strong>Your event registration confirmation will contain Zoom login information.&nbsp\;</strong></em>
LOCATION:A Zoom Webinar
UID:e.2885.17186
SEQUENCE:3
DTSTAMP:20260423T155105Z
URL:https://business.littletonareachamber.com/events/details/travel-industry-update-with-collette-17186
END:VEVENT

END:VCALENDAR
