BEGIN:VCALENDAR
VERSION:2.0
PRODID:-//ChamberMaster//Event Calendar 2.0//EN
METHOD:PUBLISH
X-PUBLISHED-TTL:P3D
REFRESH-INTERVAL:P3D
CALSCALE:GREGORIAN
BEGIN:VEVENT
DTSTART:20200311T223000Z
DTEND:20200312T000000Z
X-MICROSOFT-CDO-ALLDAYEVENT:FALSE
SUMMARY:Successful Sleep Presentation
DESCRIPTION:Naturopathic Doctor Candice Scholl will present on the habits\, hormones\, and conditions that can prevent a good night's sleep and ways to address those issues. Learn what helps\, what hurts\, and how to best engage with your healthcare practitioner to get the rest you need.
X-ALT-DESC;FMTTYPE=text/html:<div>Naturopathic Doctor Candice Scholl will present on the habits\, hormones\, and conditions that can prevent a good night&#39\;s sleep and ways to address those issues. Learn what helps\, what hurts\, and how to best engage with your healthcare practitioner to get the rest you need.</div>\n
LOCATION:Littleton Public Library 92 Main St Littleton NH 03561
UID:e.2885.15666
SEQUENCE:3
DTSTAMP:20260423T114205Z
URL:https://business.littletonareachamber.com/events/details/successful-sleep-presentation-15666
END:VEVENT

END:VCALENDAR
