BEGIN:VCALENDAR
VERSION:2.0
PRODID:-//ChamberMaster//Event Calendar 2.0//EN
METHOD:PUBLISH
X-PUBLISHED-TTL:P3D
REFRESH-INTERVAL:P3D
CALSCALE:GREGORIAN
BEGIN:VEVENT
DTSTART;VALUE=DATE:20200317
DTEND;VALUE=DATE:20200318
TRANSP:TRANSPARENT
X-MICROSOFT-CDO-ALLDAYEVENT:TRUE
SUMMARY:St. Patty's Day SKI Special at Bretton Woods
DESCRIPTION:Save some green with a friend...buy one adult Alpine or Nordic ticket at the regular rate and get a second same-day ticket for just $17.
X-ALT-DESC;FMTTYPE=text/html:Save some green with a friend...buy one adult Alpine or Nordic ticket at the regular rate and get a second same-day ticket for just $17.
LOCATION:Bretton Woods Ski Area
UID:e.2885.15188
SEQUENCE:3
DTSTAMP:20260423T114711Z
URL:https://business.littletonareachamber.com/events/details/st-patty-s-day-ski-special-at-bretton-woods-15188
END:VEVENT

END:VCALENDAR
