BEGIN:VCALENDAR
VERSION:2.0
PRODID:-//ChamberMaster//Event Calendar 2.0//EN
METHOD:PUBLISH
X-PUBLISHED-TTL:P3D
REFRESH-INTERVAL:P3D
CALSCALE:GREGORIAN
BEGIN:VEVENT
DTSTART:20200208T130000Z
DTEND:20200208T210000Z
X-MICROSOFT-CDO-ALLDAYEVENT:FALSE
SUMMARY:AHEAD's Secrets of Homebuying Workshop
DESCRIPTION:Learn everything you need to know about buying a home in one day!  \n\n			Apply for a mortgage with special financing ~ Closing costs ~ Working with a Realtor ~ Budgeting  ~ Credit ~ Homeowners Insurance\n\n			\n\n			Pre-registration required
X-ALT-DESC;FMTTYPE=text/html:<table cellpadding="0" cellspacing="0">\n	<tbody>\n		<tr>\n			<td style="vertical-align:top">\n			<div><br />\n			<em><span style="color:black"><span style="font-family:arial narrow"><span style="font-size:18.0pt">Learn everything you need to know about buying a home in one day!&nbsp\; </span></span></span></em><br />\n			<em><span style="color:black"><span style="font-family:arial narrow"><span style="font-size:18.0pt">Apply for a mortgage with special financing</span></span></span></em><em><span style="font-family:arial narrow"><span style="font-size:18.0pt"> ~ Closing costs ~ Working with a Realtor ~ Budgeting&nbsp\; ~ Credit ~ Homeowners Insurance</span></span></em><br />\n			<br />\n			<em><span style="font-family:arial narrow"><span style="font-size:18.0pt">Pre-registration required</span></span></em></div>\n			</td>\n		</tr>\n	</tbody>\n</table>\n
LOCATION:Mt. Eustis Commons 262 Cottage St. Littleton\, NH
UID:e.2885.15392
SEQUENCE:3
DTSTAMP:20260423T100156Z
URL:https://business.littletonareachamber.com/events/details/secrets-of-homebuying-workshop-15392
END:VEVENT

END:VCALENDAR
