BEGIN:VCALENDAR
VERSION:2.0
PRODID:-//ChamberMaster//Event Calendar 2.0//EN
METHOD:PUBLISH
X-PUBLISHED-TTL:P3D
REFRESH-INTERVAL:P3D
CALSCALE:GREGORIAN
BEGIN:VEVENT
DTSTART;VALUE=DATE:20230701
DTEND;VALUE=DATE:20230705
TRANSP:TRANSPARENT
X-MICROSOFT-CDO-ALLDAYEVENT:TRUE
SUMMARY:Salute to Freedom
DESCRIPTION:Salute to Freedom at the Omni Mount Washington Resort\n\nAll Day\n\nJoin the Omni Mount Washington Resort for a four-day celebration filled with spirited fun for the whole family! Try delicious food prepared by our chefs\, participate in our daily activities\, and kick back this summer to enjoy time with family and friends. Everything from an annual pie eating contest to an epic water balloon fight will be topped off with the Omni Mount Washington's fantastic fireworks display\, open to resort guests only. For additional information on activities or offering please contact the Activities Concierge Desk at 603-278-1000.\n\n\n\nLEARN MORE\n\n\n\nFourth of July Fireworks Display\n\nTuesday\, July 4\, 2023\n\nShow starts at 9:30pm\n\nOpen to resort guests only.
X-ALT-DESC;FMTTYPE=text/html:<!--StartFragment-->\n<p style="text-align:start"><strong>Salute to Freedom at the Omni Mount Washington Resort</strong><br />\n<em>All Day</em></p>\n\n<p style="text-align:start"><!--StartFragment--><!--StartFragment--><!--StartFragment--><!--StartFragment--><!--StartFragment--><span style="background-color:rgb(255\, 255\, 255)\; color:rgb(51\, 51\, 51)\; font-family:source sans pro\,sans-serif\; font-size:15px">Join the Omni Mount Washington Resort for a four-day celebration filled with spirited fun for the whole family! Try delicious food prepared by our chefs\, participate in our daily activities\, and kick back this summer to enjoy time with family and friends. Everything from an annual pie eating contest to an epic water balloon fight will be topped off with the Omni Mount Washington&#39\;s fantastic fireworks display\, open to resort guests only.&nbsp\;For additional information on activities or offering please contact the Activities Concierge Desk at 603-278-1000.<br />\n<br />\n<a href="https://www.brettonwoods.com/Salute-to-freedom"><strong>LEARN MORE</strong></a></span><br />\n<br />\n<!--StartFragment--><strong>Fourth of July Fireworks Display</strong><br />\n<span style="background-color:rgb(255\, 255\, 255)\; color:rgb(0\, 0\, 0)\; font-family:source sans pro\,sans-serif\; font-size:15px">Tuesday\, July 4\, 2023</span><br />\n<span style="background-color:rgb(255\, 255\, 255)\; color:rgb(0\, 0\, 0)\; font-family:source sans pro\,sans-serif\; font-size:15px">Show starts at 9:30pm</span><br />\n<span style="background-color:rgb(255\, 255\, 255)\; color:rgb(0\, 0\, 0)\; font-family:source sans pro\,sans-serif\; font-size:13px"><em>Open to resort guests only.</em></span><!--EndFragment--><br />\n<!--EndFragment--><!--EndFragment--><!--EndFragment--><!--EndFragment--></p>\n<!--EndFragment-->
LOCATION:310 Mt. Washington Hotel Road Bretton Woods\, NH 03575 (603) 278-1000
UID:e.2885.19314
SEQUENCE:3
DTSTAMP:20260421T112712Z
URL:https://business.littletonareachamber.com/events/details/salute-to-freedom-19314
END:VEVENT

END:VCALENDAR
