BEGIN:VCALENDAR
VERSION:2.0
PRODID:-//ChamberMaster//Event Calendar 2.0//EN
METHOD:PUBLISH
X-PUBLISHED-TTL:P3D
REFRESH-INTERVAL:P3D
CALSCALE:GREGORIAN
BEGIN:VEVENT
DTSTART:20200317T223000Z
DTEND:20200318T010000Z
X-MICROSOFT-CDO-ALLDAYEVENT:FALSE
SUMMARY:Rek'-lis Brewing Co. St. Patrick's Day Pairing
DESCRIPTION:Come and join your favorite brewery on St. Patrick's Day night. Enjoy an amazing dinner pairing and Irish music. We will be offering a 4-course meal paired with 3 new Irish Whiskies and one tried and true\, Bushmills 10 year old single malt. Chef Greg and Spirit Manager Nigel have paired 2 single malts and 2 blended Irish Whiskies with some amazing food for you to enjoy. The Whiskies from Sexton Single Malt\, made by a woman distiller to Proper 12 blend from fighter Conor McGregor paired with exceptional food will be a night to remember.\n\nRek'-lis will be open at 6pm. Dinner will begin at 6:30pm.
X-ALT-DESC;FMTTYPE=text/html:<p>Come and join your favorite brewery on St. Patrick&#39\;s Day night. Enjoy an amazing dinner pairing and Irish music. We will be offering a 4-course meal paired with 3 new Irish Whiskies and one tried and true\, Bushmills 10 year old single malt. Chef Greg and Spirit Manager Nigel have paired 2 single malts and 2 blended Irish Whiskies with some amazing food for you to enjoy. The Whiskies from Sexton Single Malt\, made by a woman distiller to Proper 12 blend from fighter Conor McGregor paired with exceptional food will be a night to remember.</p>\n\n<p>Rek&#39\;-lis will be open at 6pm. Dinner will begin at 6:30pm.</p>\n
LOCATION:2085 Main Street Bethlehem\, NH 03561
UID:e.2885.15952
SEQUENCE:3
DTSTAMP:20260423T114433Z
URL:https://business.littletonareachamber.com/events/details/rek-lis-brewing-co-st-patrick-s-day-pairing-15952
END:VEVENT

END:VCALENDAR
