BEGIN:VCALENDAR
VERSION:2.0
PRODID:-//ChamberMaster//Event Calendar 2.0//EN
METHOD:PUBLISH
X-PUBLISHED-TTL:P3D
REFRESH-INTERVAL:P3D
CALSCALE:GREGORIAN
BEGIN:VEVENT
DTSTART:20200313T230000Z
DTEND:20200314T010000Z
X-MICROSOFT-CDO-ALLDAYEVENT:FALSE
SUMMARY:Rek'-lis Brewing Co. Live Music: Gentle Temper
DESCRIPTION:Join us for live music by Gentle Temper at Rek'-lis Brewing Co.
X-ALT-DESC;FMTTYPE=text/html:Join us for live music by Gentle Temper at Rek&#39\;-lis Brewing Co.&nbsp\;
LOCATION:2085 Main Street Bethlehem\, NH 03561
UID:e.2885.15953
SEQUENCE:3
DTSTAMP:20260423T114608Z
URL:https://business.littletonareachamber.com/events/details/rek-lis-brewing-co-live-music-gentle-temper-15953
END:VEVENT

END:VCALENDAR
