BEGIN:VCALENDAR
VERSION:2.0
PRODID:-//ChamberMaster//Event Calendar 2.0//EN
METHOD:PUBLISH
X-PUBLISHED-TTL:P3D
REFRESH-INTERVAL:P3D
CALSCALE:GREGORIAN
BEGIN:VEVENT
DTSTART:20200206T160000Z
DTEND:20200206T220000Z
X-MICROSOFT-CDO-ALLDAYEVENT:FALSE
SUMMARY:Red Cross Blood Drive
DESCRIPTION:You can make a difference... Schedule your blood donation appointment today! Call 1-800-RED-CROSS (1-800-733-2767)
X-ALT-DESC;FMTTYPE=text/html:You can make a difference... Schedule your blood donation appointment today! Call 1-800-RED-CROSS (1-800-733-2767)
LOCATION:Summit by Morrison 56 Summit Drive Whitefield\, NH
UID:e.2885.15659
SEQUENCE:3
DTSTAMP:20260423T100217Z
URL:https://business.littletonareachamber.com/events/details/red-cross-blood-drive-15659
END:VEVENT

END:VCALENDAR
