BEGIN:VCALENDAR
VERSION:2.0
PRODID:-//ChamberMaster//Event Calendar 2.0//EN
METHOD:PUBLISH
X-PUBLISHED-TTL:P3D
REFRESH-INTERVAL:P3D
CALSCALE:GREGORIAN
BEGIN:VEVENT
DTSTART:20200608T160000Z
DTEND:20200608T170000Z
X-MICROSOFT-CDO-ALLDAYEVENT:FALSE
SUMMARY:Real Estate Market Review with Coldwell Banker Lifestyles
DESCRIPTION:
X-ALT-DESC;FMTTYPE=text/html:
LOCATION:A Zoom Meeting - Meeting link will be included in your registration confirmation.
UID:e.2885.17185
SEQUENCE:3
DTSTAMP:20260423T155749Z
URL:https://business.littletonareachamber.com/events/details/real-estate-market-review-with-coldwell-banker-lifestyles-17185
END:VEVENT

END:VCALENDAR
