BEGIN:VCALENDAR
VERSION:2.0
PRODID:-//ChamberMaster//Event Calendar 2.0//EN
METHOD:PUBLISH
X-PUBLISHED-TTL:P3D
REFRESH-INTERVAL:P3D
CALSCALE:GREGORIAN
BEGIN:VEVENT
DTSTART:20200321T130000Z
DTEND:20200321T153000Z
X-MICROSOFT-CDO-ALLDAYEVENT:FALSE
SUMMARY:Qigong - Morning of Mindfulness - 2 parts
DESCRIPTION:Qigong is a method of energy cultivation through gently exercises that incorporate deep breathing\, focused intention\, and mindful postures that facilitate the flow of QI. Morning will begin with meditation methods from the Qigong tradition\, then move on to other Qigong forms fro health & well-being. Presenter: Mary Sturtevant
X-ALT-DESC;FMTTYPE=text/html:Qigong is a method of energy cultivation through gently exercises that incorporate deep breathing\, focused intention\, and mindful postures that facilitate the flow of QI. Morning will begin with meditation methods from the Qigong tradition\, then move on to other Qigong forms fro health &amp\; well-being. Presenter: Mary Sturtevant
LOCATION:All Saints' Episcopal Church 35 School St.\, Littleton\, NH 03561
UID:e.2885.15738
SEQUENCE:3
DTSTAMP:20260423T114913Z
URL:https://business.littletonareachamber.com/events/details/qigong-morning-of-mindfulness-2-parts-15738
END:VEVENT

END:VCALENDAR
