BEGIN:VCALENDAR
VERSION:2.0
PRODID:-//ChamberMaster//Event Calendar 2.0//EN
METHOD:PUBLISH
X-PUBLISHED-TTL:P3D
REFRESH-INTERVAL:P3D
CALSCALE:GREGORIAN
BEGIN:VEVENT
DTSTART:20190712T150000Z
DTEND:20190712T160000Z
X-MICROSOFT-CDO-ALLDAYEVENT:FALSE
SUMMARY:Patchwork Players Presents LIFE ON A PLATE
DESCRIPTION:LIFE ON A PLATE is the heroic tale of an underdog\, or in this case "the last pea on the plate\," passed over time and time again. Join Pea\, Carrot\, and all the other inhabitants of the fridge on an egg-i-stential journey to food paradise. LIFE ON A PLATE Written and Conceived by Miles Burns and Hannah Morrisse Original music by Miles Burns and Scottie Hermenau
X-ALT-DESC;FMTTYPE=text/html:LIFE ON A PLATE is the heroic tale of an underdog\, or in this case &ldquo\;the last pea on the plate\,&rdquo\; passed over time and time again. Join Pea\, Carrot\, and all the other inhabitants of the fridge on an egg-i-stential journey to food paradise. LIFE ON A PLATE Written and Conceived by Miles Burns and Hannah Morrisse Original music by Miles Burns and Scottie Hermenau
LOCATION:Weathervane Theatre - 389 Lancaster Rd.\, Whitefield\, NH 03598
UID:e.2885.10807
SEQUENCE:3
DTSTAMP:20260422T042554Z
URL:https://business.littletonareachamber.com/events/details/patchwork-players-presents-life-on-a-plate-10807
END:VEVENT

END:VCALENDAR
