BEGIN:VCALENDAR
VERSION:2.0
PRODID:-//ChamberMaster//Event Calendar 2.0//EN
METHOD:PUBLISH
X-PUBLISHED-TTL:P3D
REFRESH-INTERVAL:P3D
CALSCALE:GREGORIAN
BEGIN:VEVENT
DTSTART:20230701T210000Z
DTEND:20230701T230000Z
X-MICROSOFT-CDO-ALLDAYEVENT:FALSE
SUMMARY:Opening Reception for A Dream of the Hills at WREN
DESCRIPTION:Join WREN on Saturday\, July 1\, 5-7 PM for the opening reception of A Dream of the Hills\, the newest exhibition in the Gallery at WREN\, highlighting work from three New Hampshire artists: Rebecca M. Fullerton\, a painter working in the realist and impressionist traditions\, and Hanna Lucy\, working in colored pencil and ink\, celebrate the landscapes of the White Mountain region\; while Jeffery Cooper\, a wood sculptor and member of the New Hampshire Furniture Masters\, brings the healing beauty of the natural world to his pieces. The title of the show is taken from My Mountain by Lucy Larcom\, a New England poet active in the 1800s who spent much time in the White Mountains. A Dream of the Hills is on view June 30 through August 27 in the Gallery at WREN. All are welcome at the opening reception on Saturday\, July 1 from 5-7 PM. Meet the artists and mingle with the North Country arts community! The Gallery at WREN in downtown Bethlehem is open Monday-Saturday 10 AM-5 PM and Sunday 11 AM-4 PM. Hilliard Real Estate generously sponsored A Dream of the Hills\, and the Adair Country Inn & Restaurant is the proud sponsor of the Gallery at WREN.
X-ALT-DESC;FMTTYPE=text/html:Join WREN on Saturday\, July 1\, 5-7 PM for the opening reception of A Dream of the Hills\, the newest exhibition in the Gallery at WREN\, highlighting work from three New Hampshire artists: Rebecca M. Fullerton\, a painter working in the realist and impressionist traditions\, and Hanna Lucy\, working in colored pencil and ink\, celebrate the landscapes of the White Mountain region\; while Jeffery Cooper\, a wood sculptor and member of the New Hampshire Furniture Masters\, brings the healing beauty of the natural world to his pieces. The title of the show is taken from My Mountain by Lucy Larcom\, a New England poet active in the 1800s who spent much time in the White Mountains. A Dream of the Hills is on view June 30 through August 27 in the Gallery at WREN. All are welcome at the opening reception on Saturday\, July 1 from 5-7 PM. Meet the artists and mingle with the North Country arts community! The Gallery at WREN in downtown Bethlehem is open Monday-Saturday 10 AM-5 PM and Sunday 11 AM-4 PM. Hilliard Real Estate generously sponsored A Dream of the Hills\, and the Adair Country Inn &amp\; Restaurant is the proud sponsor of the Gallery at WREN.
LOCATION:The Gallery at WREN 2011 Main Street Bethlehem\, NH 03574
UID:e.2885.19317
SEQUENCE:3
DTSTAMP:20260421T112738Z
URL:https://business.littletonareachamber.com/events/details/opening-reception-for-a-dream-of-the-hills-at-wren-19317
END:VEVENT

END:VCALENDAR
