BEGIN:VCALENDAR
VERSION:2.0
PRODID:-//ChamberMaster//Event Calendar 2.0//EN
METHOD:PUBLISH
X-PUBLISHED-TTL:P3D
REFRESH-INTERVAL:P3D
CALSCALE:GREGORIAN
BEGIN:VEVENT
DTSTART:20200214T000000Z
DTEND:20200214T030000Z
X-MICROSOFT-CDO-ALLDAYEVENT:FALSE
SUMMARY:North Country Serenity Center's Valentine's Dance featuring '90s Music!
DESCRIPTION:Come to our Valentine's Dance and dance! There will be the BEST '90s music\, and refreshments! All welcome!!!\n\n*$5 suggested donation*
X-ALT-DESC;FMTTYPE=text/html:Come to our Valentine&#39\;s Dance and dance! There will be the BEST &#39\;90s music\, and refreshments! All welcome!!!<br />\n*$5 suggested donation*
LOCATION:45 Union St Littleton\, NH 03561
UID:e.2885.15446
SEQUENCE:3
DTSTAMP:20260423T100918Z
URL:https://business.littletonareachamber.com/events/details/north-country-serenity-center-s-valentine-s-dance-featuring-90s-music-15446
END:VEVENT

END:VCALENDAR
