BEGIN:VCALENDAR
VERSION:2.0
PRODID:-//ChamberMaster//Event Calendar 2.0//EN
METHOD:PUBLISH
X-PUBLISHED-TTL:P3D
REFRESH-INTERVAL:P3D
CALSCALE:GREGORIAN
BEGIN:VEVENT
DTSTART;VALUE=DATE:20230728
DTEND;VALUE=DATE:20230729
TRANSP:TRANSPARENT
X-MICROSOFT-CDO-ALLDAYEVENT:TRUE
SUMMARY:NH Resident Nights at the North Country Center for the Arts at Jean's Playhouse
DESCRIPTION:Friday Nights are NH Resident Night! Full-time NH residents can purchase $25 tickets at the door to any of our Friday night Summer Main Stage Shows. Patrons must show a valid NH proof of residence (driver's license preferred) for each ticket purchased. Tickets are subject to availability and must be purchased in person at the Box Office (not available online).\n\nwww.jeansplayhouse.com
X-ALT-DESC;FMTTYPE=text/html:<span style="color:rgb(119\, 119\, 119)\; font-family:helvetica neue\,helvetica\,helvetica\,arial\,sans-serif\; font-size:14px">Friday Nights are NH Resident Night! Full-time NH residents can purchase $25 tickets at the door to any of our Friday night Summer Main Stage Shows. Patrons must show a valid NH proof of residence (driver&rsquo\;s license preferred) for each ticket purchased. Tickets are subject to availability and must be purchased in person at the Box Office (not available online).<br />\nwww.jeansplayhouse.com</span>
LOCATION:North Country Center for the Arts at Jean's Playhouse 34 Papermill Drive Lincoln NH 03251
UID:e.2885.19547
SEQUENCE:3
DTSTAMP:20260421T113444Z
URL:https://business.littletonareachamber.com/events/details/nh-resident-nights-at-the-north-country-center-for-the-arts-at-jean-s-playhouse-07-28-2023-19547
END:VEVENT

END:VCALENDAR
