BEGIN:VCALENDAR
VERSION:2.0
PRODID:-//ChamberMaster//Event Calendar 2.0//EN
METHOD:PUBLISH
X-PUBLISHED-TTL:P3D
REFRESH-INTERVAL:P3D
CALSCALE:GREGORIAN
BEGIN:VEVENT
DTSTART:20200603T193000Z
DTEND:20200603T213000Z
X-MICROSOFT-CDO-ALLDAYEVENT:FALSE
SUMMARY:NCHC Hosting 3rd Annual UP Granite Youth Conference (Live Stream!)
DESCRIPTION:Tune in for the virtual UP Granite Youth Conference on June 3rd from 3:30   5:30 pm by going online to: http://stream.phlume.com/up2020/. The live stream of UP can also be accessed on Phlume Media's Instagram page. \n\n\n\n  Listen to award-winning global suicide prevention speaker\, Kevin Hines\, who will tell his inspiring story of surviving a suicide attempt by jumping from the Golden Gate Bridge. Kevin now travels the world sharing his story of hope\, healing\, and recovery while teaching people of all ages the art of wellness & the ability to survive pain with true resilience. \n\n\n\n  Engage in a Q & A session with Kevin\n\n\n\nOther features of the virtual UP Conference include:\n\n\n\n  Facilitation by local students from Youth Leadership Through Adventure (YLTA) groups\n\n\n\n  Surprise guest speaker\n\n\n\n  Shoutouts from past UP presenters\, sponsors\, and returning student attendees\n\n\n\n  Helpful resources that students can turn to for mental health support\n\n\n\nCheckout (and share!) the UP event flyer: http://nchcnh.org/images/NCHCuplds/Up_Conference_Flyer_2020_FINAL.pdf\n\n\n\nFunding for this event was provided in part by the NH Bureau of Drug and Alcohol Services and from generous sponsors\, including the Black Crow Project. \n\n\n\nFor questions or to learn more about the annual UP Granite Youth Conference and how to get involved\, contact NCHC's Substance Misuse Prevention Coordinator\, Greg Williams: gwilliams@NCHCNH.org or (603)259-4797.
X-ALT-DESC;FMTTYPE=text/html:<span style="color:rgb(29\, 33\, 41)\; font-family:helvetica\,arial\,sans-serif\; font-size:14px">Tune in for the virtual UP Granite Youth Conference on June 3rd from 3:30 &ndash\; 5:30 pm by going online to: </span><a href="https://l.facebook.com/l.php?u=http%3A%2F%2Fstream.phlume.com%2Fup2020%2F%3Ffbclid%3DIwAR1CrKqh6eT0TcLohI2eY-_MPnd7XnIfUfzsYMKlENva8hOYyTSI7kmYCbw&amp\;h=AT395WWhF7iLmCl5tzRTG6NX7baQoII5CpQLUn1LqmGRW4dv3J25vGQdepZCPkaDPeQpfGkbcFUfY2z2CMCwMfKzLo6YHneW4wcT0oiFmBWGmjEZnqsyZYwDVsj2nPDm" rel="nofollow noopener" style="color: rgb(56\, 88\, 152)\; cursor: pointer\; text-decoration-line: none\; font-family: Helvetica\, Arial\, sans-serif\; font-size: 14px\; white-space: pre-wrap\;" target="_blank">http://stream.phlume.com/up2020/</a><span style="color:rgb(29\, 33\, 41)\; font-family:helvetica\,arial\,sans-serif\; font-size:14px">. The live stream of UP can also be accessed on Phlume Media&#39\;s&nbsp\;</span><span style="color:rgb(29\, 33\, 41)\; font-family:helvetica\,arial\,sans-serif\; font-size:14px">Instagram page. </span><br />\n<br />\n<span style="color:rgb(29\, 33\, 41)\; font-family:helvetica\,arial\,sans-serif\; font-size:14px">&bull\; Listen to award-winning global suicide prevention speaker\, Kevin Hines\, who will tell his inspiring story of surviving a suicide attempt by jumping from the Golden Gate Bridge. Kevin now travels the world sharing his story of hope\, healing\, and recovery while teaching people of all ages the art of wellness &amp\; the ability to survive pain with true resilience. </span><br />\n<br />\n<span style="color:rgb(29\, 33\, 41)\; font-family:helvetica\,arial\,sans-serif\; font-size:14px">&bull\; Engage in a Q &amp\; A session with Kevin</span><br />\n<br />\n<span style="color:rgb(29\, 33\, 41)\; font-family:helvetica\,arial\,sans-serif\; font-size:14px">Other features of the virtual UP Conference include:</span><br />\n<br />\n<span style="color:rgb(29\, 33\, 41)\; font-family:helvetica\,arial\,sans-serif\; font-size:14px">&bull\; Facilitation by local students from Youth Leadership Through Adventure</span><span style="color:rgb(29\, 33\, 41)\; font-family:helvetica\,arial\,sans-serif\; font-size:14px">&nbsp\;(YLTA) groups</span><br />\n<br />\n<span style="color:rgb(29\, 33\, 41)\; font-family:helvetica\,arial\,sans-serif\; font-size:14px">&bull\; Surprise guest speaker</span><br />\n<br />\n<span style="color:rgb(29\, 33\, 41)\; font-family:helvetica\,arial\,sans-serif\; font-size:14px">&bull\; Shoutouts from past UP presenters\, sponsors\, and returning student attendees</span><br />\n<br />\n<span style="color:rgb(29\, 33\, 41)\; font-family:helvetica\,arial\,sans-serif\; font-size:14px">&bull\; Helpful resources that students can turn to for mental health support</span><br />\n<br />\n<span style="color:rgb(29\, 33\, 41)\; font-family:helvetica\,arial\,sans-serif\; font-size:14px">Checkout (and share!) the UP event flyer: </span><a href="https://l.facebook.com/l.php?u=http%3A%2F%2Fnchcnh.org%2Fimages%2FNCHCuplds%2FUp_Conference_Flyer_2020_FINAL.pdf%3Ffbclid%3DIwAR2WPkdNTCMsp6TEV6OiS3AkZ9MNMITkujvlpT3uU9R9J_jZ4_csIzR6e8M&amp\;h=AT0dnAzFjNCN1jeOkirO1N0qyZJXuzXnS-giKXWFSz6V_VFCWLVcKA6VGxG7E8zAfeCwIOvL8eTc-HPVqYAKJH6w-0vf8pgE6uajQURQxd9WPADHd6RuKIHWnSxpKKwI" rel="nofollow noopener" style="color: rgb(56\, 88\, 152)\; cursor: pointer\; text-decoration-line: none\; font-family: Helvetica\, Arial\, sans-serif\; font-size: 14px\; white-space: pre-wrap\;" target="_blank">http://nchcnh.org/images/NCHCuplds/Up_Conference_Flyer_2020_FINAL.pdf</a><br />\n<br />\n<span style="color:rgb(29\, 33\, 41)\; font-family:helvetica\,arial\,sans-serif\; font-size:14px">Funding for this event was provided in part by the NH Bureau of Drug and Alcohol Services and from generous sponsors\, including the Black Crow Project.&nbsp\;</span><br />\n<br />\n<span style="color:rgb(29\, 33\, 41)\; font-family:helvetica\,arial\,sans-serif\; font-size:14px">For questions or to learn more about the annual UP Granite Youth Conference and how to get involved\, contact NCHC&rsquo\;s Substance Misuse Prevention Coordinator\, Greg Williams: gwilliams@NCHCNH.org or (603)259-4797. </span>
LOCATION:Tune in for the virtual UP Granite Youth Conference by going online to: http://stream.phlume.com/up2020/. The live stream of UP can also be accessed on Phlume Media's Instagram page.
UID:e.2885.17182
SEQUENCE:3
DTSTAMP:20260423T161657Z
URL:https://business.littletonareachamber.com/events/details/nchc-hosting-3rd-annual-up-granite-youth-conference-live-stream-17182
END:VEVENT

END:VCALENDAR
