BEGIN:VCALENDAR
VERSION:2.0
PRODID:-//ChamberMaster//Event Calendar 2.0//EN
METHOD:PUBLISH
X-PUBLISHED-TTL:P3D
REFRESH-INTERVAL:P3D
CALSCALE:GREGORIAN
BEGIN:VEVENT
DTSTART:20230714T140000Z
DTEND:20230716T213000Z
X-MICROSOFT-CDO-ALLDAYEVENT:FALSE
SUMMARY:NASCAR Weekend
DESCRIPTION:New England's only NASCAR weekend is July 14-16 at New Hampshire Motor Speedway! On-track action kicks off Friday with practice and qualifying sessions for the NASCAR Xfinity Series and NASCAR Whelen Modified Tour plus Friday Night Dirt Duels at The Flat Track. The action continues with NASCAR Cup Series qualifying\, the Ambetter Health 200 NASCAR Xfinity Series race and Mohegan Sun 100 NASCAR Whelen Modified Tour race on Doubleheader Saturday and culminates with the Cup Series taking on "The Magic Mile" Sunday for the Crayon 301. Don't miss all of the exciting off-track action including The Groove fan hangout\, concerts from Dirty Deeds: The AC/DC Experience and Shot of Poison\, family movie night featuring Top Gun Maverick\, a variety of performers\, fireworks\, carnival games and so much more.
X-ALT-DESC;FMTTYPE=text/html:New England&rsquo\;s only NASCAR weekend is July 14-16 at New Hampshire Motor Speedway! On-track action kicks off Friday with practice and qualifying sessions for the NASCAR Xfinity Series and NASCAR Whelen Modified Tour plus Friday Night Dirt Duels at The Flat Track. The action continues with NASCAR Cup Series qualifying\, the Ambetter Health 200 NASCAR Xfinity Series race and Mohegan Sun 100 NASCAR Whelen Modified Tour race on Doubleheader Saturday and culminates with the Cup Series taking on &ldquo\;The Magic Mile&rdquo\; Sunday for the Crayon 301. Don&rsquo\;t miss all of the exciting off-track action including The Groove fan hangout\, concerts from Dirty Deeds: The AC/DC Experience and Shot of Poison\, family movie night featuring Top Gun Maverick\, a variety of performers\, fireworks\, carnival games and so much more.
LOCATION:New Hampshire Motor Speedway 1122 Route 106 North Loudon\, NH 03307
UID:e.2885.19308
SEQUENCE:3
DTSTAMP:20260421T112614Z
URL:https://business.littletonareachamber.com/events/details/nascar-weekend-07-14-2023-19308
END:VEVENT

END:VCALENDAR
