BEGIN:VCALENDAR
VERSION:2.0
PRODID:-//ChamberMaster//Event Calendar 2.0//EN
METHOD:PUBLISH
X-PUBLISHED-TTL:P3D
REFRESH-INTERVAL:P3D
CALSCALE:GREGORIAN
BEGIN:VEVENT
DTSTART:20200215T223000Z
DTEND:20200216T020000Z
X-MICROSOFT-CDO-ALLDAYEVENT:FALSE
SUMMARY:Murder\, Mayhem\, Speakeasy Scandal - Dinner & Interactive Show
DESCRIPTION:Roar into the 20s with us! An evening murder mystery in Dunn's Speakeasy will have guests discover who done it - with plenty of fun\, a great meal\, cash bar\, and some incredible basket raffles...\n\n\n\nIt's our third annual dinner theatre fundraiser for Jean's Playhouse at the North Country Center for the Arts. This time we're heading to a "family" wedding\, and who knows what mayhem will ensue when marriage among the mob leads to a killer night!\n\n\n\nDon your fringe and sparkle\, or pick up some accessories when you arrive -- but come for a swell evening in support of Jean's Annual Fund.\n\n\n\nAdvance tickets strongly recommended: Only 125 "guests" to this wedding of mystery and mayhem can be seated.  Enjoy the great food\, cash bar\, and friend of Jean's at the Woodstock Inn & Station\, Main St.\, No.Woodstock\, NH
X-ALT-DESC;FMTTYPE=text/html:Roar into the 20s with us! An evening murder mystery in Dunn&#39\;s Speakeasy will have guests discover who done it - with plenty of fun\, a great meal\, cash bar\, and some incredible basket raffles...<br />\n<br />\nIt&#39\;s our third annual dinner theatre fundraiser for Jean&#39\;s Playhouse at the North Country Center for the Arts. This time we&#39\;re heading to a &quot\;family&quot\; wedding\, and who knows what mayhem will ensue when marriage among the mob leads to a killer night!<br />\n<br />\nDon your fringe and sparkle\, or pick up some accessories when you arrive -- but come for a swell evening in support of Jean&#39\;s Annual Fund.<br />\n<br />\nAdvance tickets strongly recommended: Only 125 &quot\;guests&quot\; to this wedding of mystery and mayhem can be seated.&nbsp\; Enjoy the great food\, cash bar\, and friend of Jean&#39\;s at the Woodstock Inn &amp\; Station\, Main St.\, No.Woodstock\, NH
LOCATION:at The Woodstock Inn Station and Brewery\, 135 Main Street\, North Woodstock\, NH
UID:e.2885.15418
SEQUENCE:3
DTSTAMP:20260423T100126Z
URL:https://business.littletonareachamber.com/events/details/murder-mayhem-speakeasy-scandal-dinner-interactive-show-15418
END:VEVENT

END:VCALENDAR
