BEGIN:VCALENDAR
VERSION:2.0
PRODID:-//ChamberMaster//Event Calendar 2.0//EN
METHOD:PUBLISH
X-PUBLISHED-TTL:P3D
REFRESH-INTERVAL:P3D
CALSCALE:GREGORIAN
BEGIN:VEVENT
DTSTART:20200319T130000Z
DTEND:20200319T200000Z
X-MICROSOFT-CDO-ALLDAYEVENT:FALSE
SUMMARY:Motivational Interviewing Training (2-day)
DESCRIPTION:For professionals who work with clients/patients who are struggling to change\, including behaviors like quitting smoking and changing their diets\, this 2-day training will prepare participants to apply Motivational Interviewing (MI)\, an evidence-based style of communication designed to strengthen a person's own motivation and commitment to change.\n\n\n\nParticipants will learn:   the benefits of MI to support behavior change   MI skills\, strategies\, processes & tools\; Practice:   the use of MI skills & tools   Responding to change & sustain talk\; Understand:   the basic principles of MI   How & when MI is most helpful. Continuing education available for: Nursing\, Medical\, Social Work\, LADC\, and CPS. Participants must attend both training days to receive credit.
X-ALT-DESC;FMTTYPE=text/html:<span style="font-size:14px"><span style="font-family:arial\,helvetica\,sans-serif"><span style="color:#51664D">For professionals who work with clients/patients who are struggling to change\, including behaviors like quitting smoking and changing their diets\, this 2-day training will prepare participants to apply </span><a href="http://nchcnh.org/images/NCHCuplds/Motivational_Interviewing_March_.2020.pdf">Motivational Interviewing</a><span style="color:#51664D"> (MI)\, an evidence-based style of communication designed to strengthen a person&#39\;s own motivation and commitment to change.<br />\n<br />\nParticipants will learn: &bull\; the benefits of MI to support behavior change &bull\; MI skills\, strategies\, processes &amp\; tools\; Practice: &bull\; the use of MI skills &amp\; tools &bull\; Responding to change &amp\; sustain talk\; Understand: &bull\; the basic principles of MI &bull\; How &amp\; when MI is most helpful. Continuing education available for: Nursing\, Medical\, Social Work\, LADC\, and CPS. </span><span style="color:#51664D">Participants must attend both training days to receive credit.&nbsp\;</span></span></span>\n<div><span style="font-size:14px"><span style="font-family:arial\,helvetica\,sans-serif">&nbsp\;</span></span></div>\n
LOCATION:North Country Health Consortium - 262 Cottage St\, Suite 230 - Littleton
UID:e.2885.15661
SEQUENCE:3
DTSTAMP:20260423T114308Z
URL:https://business.littletonareachamber.com/events/details/motivational-interviewing-training-2-day-15661
END:VEVENT

END:VCALENDAR
