BEGIN:VCALENDAR
VERSION:2.0
PRODID:-//ChamberMaster//Event Calendar 2.0//EN
METHOD:PUBLISH
X-PUBLISHED-TTL:P3D
REFRESH-INTERVAL:P3D
CALSCALE:GREGORIAN
BEGIN:VEVENT
DTSTART:20200320T230000Z
DTEND:20200321T010000Z
X-MICROSOFT-CDO-ALLDAYEVENT:FALSE
SUMMARY:Live Music with Footworks Trio at Rek'-lis Brewing Co.
DESCRIPTION:Join us for live music with Footworks Trio at Rek'-lis Brewing Co.
X-ALT-DESC;FMTTYPE=text/html:Join us for live music with Footworks Trio at Rek&#39\;-lis Brewing Co.&nbsp\;
LOCATION:2085 Main Street Bethlehem\, NH 03561
UID:e.2885.15954
SEQUENCE:3
DTSTAMP:20260423T114828Z
URL:https://business.littletonareachamber.com/events/details/live-music-with-footworks-trio-at-rek-lis-brewing-co-15954
END:VEVENT

END:VCALENDAR
