BEGIN:VCALENDAR
VERSION:2.0
PRODID:-//ChamberMaster//Event Calendar 2.0//EN
METHOD:PUBLISH
X-PUBLISHED-TTL:P3D
REFRESH-INTERVAL:P3D
CALSCALE:GREGORIAN
BEGIN:VEVENT
DTSTART:20200321T230000Z
DTEND:20200322T010000Z
X-MICROSOFT-CDO-ALLDAYEVENT:FALSE
SUMMARY:Live Music with Cole Robbie at Rek'-lis Brewing Co.
DESCRIPTION:Join us for live music at Rek'-lis Brewing Co. with Footworks Trio.
X-ALT-DESC;FMTTYPE=text/html:Join us for live music at Rek&#39\;-lis Brewing Co. with Footworks Trio.&nbsp\;
LOCATION:2085 Main Street Bethlehem\, NH 03561
UID:e.2885.15955
SEQUENCE:3
DTSTAMP:20260423T114720Z
URL:https://business.littletonareachamber.com/events/details/live-music-with-cole-robbie-at-rek-lis-brewing-co-15955
END:VEVENT

END:VCALENDAR
