BEGIN:VCALENDAR
VERSION:2.0
PRODID:-//ChamberMaster//Event Calendar 2.0//EN
METHOD:PUBLISH
X-PUBLISHED-TTL:P3D
REFRESH-INTERVAL:P3D
CALSCALE:GREGORIAN
BEGIN:VEVENT
DTSTART:20200327T230000Z
DTEND:20200328T010000Z
X-MICROSOFT-CDO-ALLDAYEVENT:FALSE
SUMMARY:Live Music by Jacob Green at Rek'-lis Brewing Co.
DESCRIPTION:Join us for live music at Rek'-lis Brewing Co. with Jacob Green.
X-ALT-DESC;FMTTYPE=text/html:Join us for live music at Rek&#39\;-lis Brewing Co. with Jacob Green.&nbsp\;
LOCATION:2085 Main Street Bethlehem\, NH 03561
UID:e.2885.15956
SEQUENCE:3
DTSTAMP:20260423T114731Z
URL:https://business.littletonareachamber.com/events/details/live-music-by-jacob-green-at-rek-lis-brewing-co-15956
END:VEVENT

END:VCALENDAR
