BEGIN:VCALENDAR
VERSION:2.0
PRODID:-//ChamberMaster//Event Calendar 2.0//EN
METHOD:PUBLISH
X-PUBLISHED-TTL:P3D
REFRESH-INTERVAL:P3D
CALSCALE:GREGORIAN
BEGIN:VEVENT
DTSTART:20200312T161000Z
DTEND:20200312T164500Z
X-MICROSOFT-CDO-ALLDAYEVENT:FALSE
SUMMARY:Lenten Music Series: Victoria Cole & Allan DiBiase
DESCRIPTION:Victoria Cole\, Soprano accompanied by Allan DiBiase on Piano will entertain with beautiful songs and music. Take a moment during lunch to relax\, reflect\, and enjoy.
X-ALT-DESC;FMTTYPE=text/html:Victoria Cole\, Soprano accompanied by Allan DiBiase on Piano will entertain with beautiful songs and music. Take a moment during lunch to relax\, reflect\, and enjoy.
LOCATION:All Saints' Episcopal Church 35 School St.\, Littleton\, NH 03561
UID:e.2885.15679
SEQUENCE:3
DTSTAMP:20260423T120709Z
URL:https://business.littletonareachamber.com/events/details/lenten-music-series-victoria-cole-allan-dibiase-15679
END:VEVENT

END:VCALENDAR
