BEGIN:VCALENDAR
VERSION:2.0
PRODID:-//ChamberMaster//Event Calendar 2.0//EN
METHOD:PUBLISH
X-PUBLISHED-TTL:P3D
REFRESH-INTERVAL:P3D
CALSCALE:GREGORIAN
BEGIN:VEVENT
DTSTART:20200227T171000Z
DTEND:20200227T174500Z
X-MICROSOFT-CDO-ALLDAYEVENT:FALSE
SUMMARY:Lenten Music Series\, Greg Goodwin\, Piano
DESCRIPTION:Greg Goodwin will be playing piano selections. Take a moment during lunch to relax\, reflect\, and enjoy.
X-ALT-DESC;FMTTYPE=text/html:Greg Goodwin will be playing piano selections. Take a moment during lunch to relax\, reflect\, and enjoy.
LOCATION:All Saints' Episcopal Church 35 School St.\, Littleton\, NH
UID:e.2885.15678
SEQUENCE:3
DTSTAMP:20260423T100510Z
URL:https://business.littletonareachamber.com/events/details/lenten-music-series-greg-goodwin-piano-15678
END:VEVENT

END:VCALENDAR
