BEGIN:VCALENDAR
VERSION:2.0
PRODID:-//ChamberMaster//Event Calendar 2.0//EN
METHOD:PUBLISH
X-PUBLISHED-TTL:P3D
REFRESH-INTERVAL:P3D
CALSCALE:GREGORIAN
BEGIN:VEVENT
DTSTART;VALUE=DATE:20230725
DTEND;VALUE=DATE:20230726
TRANSP:TRANSPARENT
X-MICROSOFT-CDO-ALLDAYEVENT:TRUE
SUMMARY:Kids Golf Free in July at the Omni Mount Washington Resort
DESCRIPTION:Kids Golf Free in July\n\n\n\nFrom July 1 through July 31\, anytime of day\, kids golf for free at the 9-hole Mount Pleasant Golf Course. Tee off and take your game to a higher level at the Omni Mount Washington Resort in Bretton Woods\, New Hampshire. Our spectacular grounds feature 9- and 18-hole championship golf courses on the western flanks of the state's Presidential Mountain Range.\n\n\n	Advance tee-times required\n	All juniors 15 and under (members\, resort guests\, & public)\n	Cart\, green fee\, Jr/Associate Rental Clubs. Limited quantity of clubs available.\n	Must be accompanied by a parent or guardian\, but purchase of accompanying round NOT required.\n	Parent or guardian playing pays regular rate for 9 holes.\n	No charge for cart for non-playing accompanying adult or guardian.\n\n\n\n\nCanopy Tours | Golf | Fly Fishing | Mountain Biking | Disc Golf
X-ALT-DESC;FMTTYPE=text/html:<!--StartFragment-->\n<h1 style="text-align:start"><span style="color:#B22222">Kids Golf Free in July</span></h1>\n\n<h2 style="text-align:start"><!--StartFragment--></h2>\n\n<p style="text-align:start">From July 1 through July 31\, anytime of day\, kids golf for free at the 9-hole Mount Pleasant Golf Course.&nbsp\;Tee off and take your game to a higher level at the Omni&nbsp\;Mount Washington Resort in Bretton Woods\, New Hampshire. Our spectacular grounds feature 9- and 18-hole championship golf courses on the western flanks of the state&rsquo\;s Presidential Mountain Range.</p>\n\n<ul>\n	<li>Advance tee-times required</li>\n	<li>All juniors 15 and under (members\, resort guests\, &amp\; public)</li>\n	<li>Cart\, green fee\, Jr/Associate Rental Clubs.&nbsp\;<em>Limited quantity of clubs available.</em></li>\n	<li>Must be accompanied by a parent or guardian\, but purchase of accompanying round NOT required.</li>\n	<li>Parent or guardian playing pays regular rate for 9 holes.</li>\n	<li>No charge for cart for non-playing accompanying adult or guardian.</li>\n</ul>\n\n<h3 style="text-align:start"><!--EndFragment--></h3>\n\n<h2 style="text-align:start"><a href="https://www.brettonwoods.com/Activities/canopy_tour/Overview" style="padding: 0px\; margin: 0px\; background-color: transparent\; color: rgb(0\, 0\, 0)\; text-decoration: none\;" target="_blank"><u>Canopy Tours</u></a>&nbsp\;|&nbsp\;<a href="https://www.brettonwoods.com/activities/golf/overview" style="padding: 0px\; margin: 0px\; background-color: transparent\; color: rgb(0\, 0\, 0)\; text-decoration: none\;" target="_blank"><u>Golf</u></a>&nbsp\;|&nbsp\;<a href="https://www.brettonwoods.com/Activities/More_Summer_Fun/FlyFishing" style="padding: 0px\; margin: 0px\; background-color: transparent\; color: rgb(0\, 0\, 0)\; text-decoration: none\;" target="_blank"><u>Fly Fishing</u></a>&nbsp\;|&nbsp\;<a href="https://www.brettonwoods.com/Activities/adventure_center/mountain_biking_overview" style="padding: 0px\; margin: 0px\; background-color: transparent\; color: rgb(0\, 0\, 0)\; text-decoration: none\;" target="_blank"><u>Mountain Biking</u></a>&nbsp\;|&nbsp\;<a href="https://www.brettonwoods.com/Activities/adventure_center/disc_golf" style="padding: 0px\; margin: 0px\; background-color: transparent\; color: rgb(0\, 0\, 0)\; text-decoration: none\;" target="_blank"><u>Disc Golf</u></a></h2>\n<!--EndFragment-->
LOCATION:Mount Pleasant Golf Course Bretton Woods and the Omni Mount Washington Resort 210 Mt. Washington Hotel Road Bretton Woods\, NH 03575
UID:e.2885.19294
SEQUENCE:3
DTSTAMP:20260421T113236Z
URL:https://business.littletonareachamber.com/events/details/kids-golf-free-in-july-at-the-omni-mount-washington-resort-07-25-2023-19294
END:VEVENT

END:VCALENDAR
