BEGIN:VCALENDAR
VERSION:2.0
PRODID:-//ChamberMaster//Event Calendar 2.0//EN
METHOD:PUBLISH
X-PUBLISHED-TTL:P3D
REFRESH-INTERVAL:P3D
CALSCALE:GREGORIAN
BEGIN:VEVENT
DTSTART:20200314T140000Z
DTEND:20200314T160000Z
X-MICROSOFT-CDO-ALLDAYEVENT:FALSE
SUMMARY:Kids Can Cook
DESCRIPTION:Are you a boy or girl who loves to have fun in the kitchen? Come to the Littleton Community Center to sharpen your culinary skills or learn the basics of cooking.\n\nResearch shows that cooking is an ideal craft for kids to learn.  It boosts self-confidence\, encourages family bonding and exposes them to new foods which will aid them in becoming more adventurous eaters.\n\n"I love to cook\," says one young participant from the last class. "We measured\, we mixed\, we baked but best of all\, we ate!"
X-ALT-DESC;FMTTYPE=text/html:Are you a boy or girl who loves to have fun in the kitchen? Come to the Littleton Community Center to sharpen your culinary skills or learn the basics of cooking.<br />\nResearch shows that cooking is an ideal craft for kids to learn.&nbsp\; It boosts self-confidence\, encourages family bonding and exposes them to new foods which will aid them in becoming more adventurous eaters.<br />\n&quot\;I love to cook\,&quot\; says one young participant from the last class. &quot\;We measured\, we mixed\, we baked but best of all\, we ate!&quot\;
LOCATION:Littleton Community Center 120 Main Street Littleton\, NH
UID:e.2885.9924
SEQUENCE:3
DTSTAMP:20260423T114307Z
URL:https://business.littletonareachamber.com/events/details/kids-can-cook-9924
END:VEVENT

END:VCALENDAR
