BEGIN:VCALENDAR
VERSION:2.0
PRODID:-//ChamberMaster//Event Calendar 2.0//EN
METHOD:PUBLISH
X-PUBLISHED-TTL:P3D
REFRESH-INTERVAL:P3D
CALSCALE:GREGORIAN
BEGIN:VEVENT
DTSTART;VALUE=DATE:20230713
DTEND;VALUE=DATE:20230730
TRANSP:TRANSPARENT
X-MICROSOFT-CDO-ALLDAYEVENT:TRUE
SUMMARY:Into The Woods at NCCA Jean's Playhouse
DESCRIPTION:We are so excited and lucky to have received permission to perform this incredible Tony-Award winning piece after its SMASH HIT BROADWAY REVIVAL just closed in January!\n\nThe story follows a Baker and his wife\, who wish to have a child\; Cinderella\, who wishes to attend the King's Festival\; and Jack\, who wishes his cow would give milk. When the Baker and his wife learn that they cannot have a child because of a Witch's curse\, the two set off on a journey to break the curse. Everyone's wish is granted\, but the consequences of their actions return to haunt them later with disastrous results.\n\nMusical Theatre Composer and Legend\, Stephen Sondheim takes everyone's favorite storybook characters and brings them together for a timeless\, yet relevant\, piece that is enchanting and touching for all ages.\n\n\n\n\nSponsored by the Woodstock Inn & Brewery.
X-ALT-DESC;FMTTYPE=text/html:<div>\n<div>\n<div>\n<p><strong>We are so excited and lucky to have received permission to perform this incredible Tony-Award winning piece after its SMASH HIT BROADWAY REVIVAL just closed in January!</strong></p>\n\n<p>The story follows a Baker and his wife\, who wish to have a child\; Cinderella\, who wishes to attend the King&rsquo\;s Festival\; and Jack\, who wishes his cow would give milk. When the Baker and his wife learn that they cannot have a child because of a Witch&rsquo\;s curse\, the two set off on a journey to break the curse. Everyone&rsquo\;s wish is granted\, but the consequences of their actions return to haunt them later with disastrous results.</p>\n\n<p>Musical Theatre Composer and Legend\, Stephen Sondheim takes everyone&rsquo\;s favorite storybook characters and brings them together for a timeless\, yet relevant\, piece that is enchanting and touching for all ages.</p>\n</div>\n</div>\n</div>\n\n<p>Sponsored by the&nbsp\;<a href="https://www.woodstockinnbrewery.com/" rel="noopener" style="box-sizing: border-box\; color: rgb(191\, 28\, 40)\; text-decoration-line: none\; line-height: inherit\;" target="_blank">Woodstock Inn &amp\; Brewery</a>.</p>\n
LOCATION:North Country Center for the Arts at Jean's Playhouse 34 Papermill Drive Lincoln NH 03251
UID:e.2885.19536
SEQUENCE:3
DTSTAMP:20260421T112608Z
URL:https://business.littletonareachamber.com/events/details/into-the-woods-19536
END:VEVENT

END:VCALENDAR
