BEGIN:VCALENDAR
VERSION:2.0
PRODID:-//ChamberMaster//Event Calendar 2.0//EN
METHOD:PUBLISH
X-PUBLISHED-TTL:P3D
REFRESH-INTERVAL:P3D
CALSCALE:GREGORIAN
BEGIN:VEVENT
DTSTART:20200606T140000Z
DTEND:20200606T153000Z
X-MICROSOFT-CDO-ALLDAYEVENT:FALSE
SUMMARY:Healthy Living Seminar: Medical Care Resources
DESCRIPTION:Best resources available for medical care. Presenter: Philip Lawson\, MD\, board certified in family health\, emergency medicine. Light refreshments will be provided
X-ALT-DESC;FMTTYPE=text/html:Best resources available for medical care. Presenter: Philip Lawson\, MD\, board certified in family health\, emergency medicine. Light refreshments will be provided
LOCATION:All Saints' Episcopal Church 35 School St.\, Littleton\, NH 03561
UID:e.2885.15671
SEQUENCE:3
DTSTAMP:20260423T155441Z
URL:https://business.littletonareachamber.com/events/details/healthy-living-seminar-medical-care-resources-15671
END:VEVENT

END:VCALENDAR
