BEGIN:VCALENDAR
VERSION:2.0
PRODID:-//ChamberMaster//Event Calendar 2.0//EN
METHOD:PUBLISH
X-PUBLISHED-TTL:P3D
REFRESH-INTERVAL:P3D
CALSCALE:GREGORIAN
BEGIN:VEVENT
DTSTART:20200319T143000Z
DTEND:20200319T160000Z
X-MICROSOFT-CDO-ALLDAYEVENT:FALSE
SUMMARY:Handwork Circle & Crafts
DESCRIPTION:Keeping Traditional Trades Alive.\n\nBring your creative endeavors with you and share handwork skills\, ideas and advice while enjoying coffee and companionship.\n\nA person is never too old or too young for fun and friendship. The purpose of this gathering is to provide both.
X-ALT-DESC;FMTTYPE=text/html:Keeping Traditional Trades Alive.<br />\nBring your creative endeavors with you and share handwork skills\, ideas and advice while enjoying coffee and companionship.<br />\nA person is never too old or too young for fun and friendship. The purpose of this gathering is to provide both.
LOCATION:120 Main Street Littleton\, NH 03561
UID:e.2885.12820
SEQUENCE:3
DTSTAMP:20260423T114305Z
URL:https://business.littletonareachamber.com/events/details/handwork-circle-crafts-03-19-2020-12820
END:VEVENT

END:VCALENDAR
