BEGIN:VCALENDAR
VERSION:2.0
PRODID:-//ChamberMaster//Event Calendar 2.0//EN
METHOD:PUBLISH
X-PUBLISHED-TTL:P3D
REFRESH-INTERVAL:P3D
CALSCALE:GREGORIAN
BEGIN:VEVENT
DTSTART:20200221T233000Z
DTEND:20200222T003000Z
X-MICROSOFT-CDO-ALLDAYEVENT:FALSE
SUMMARY:Grand Hotels of Bethlehem\, NH
DESCRIPTION:The Littleton Area Historical Society will sponsor Clare Brown\, a founder of the Bethlehem Heritage Society\, presenting a slide show and talk on Bethlehem's Grand Hotel Era. \n\n   The Hotel Era came into being just after the Civil War with the impact of the growth of railroads transporting tourists to breathe and taste the mountain air of northern New Hampshire. The discussion will also focus on the strong influence of Jewish and Cuban culture on Bethlehem. The talk will also allow the audience a glimpse of the vintage Bethlehem buildings that still remain from the Hotel Era.\n\n   Clare Brown has lived in Bethlehem for most of her life. She graduated from the Concord (N.H.) School of Nursing\, and was a school nurse at Profile High School for twenty-two years. She retired in 2002 and worked at the Rocks Christmas Tree Farm for thirteen years.\n\n   Admission to the program is free. Donations are accepted. The Littleton Area Historical Society certainly encourages the public to take advantage of the opportunity to see and hear Clare Brown's unique historical perspective on a once vital time in our past.
X-ALT-DESC;FMTTYPE=text/html:The Littleton Area Historical Society will sponsor Clare Brown\, a founder of the Bethlehem Heritage Society\, presenting a slide show and talk on Bethlehem&rsquo\;s Grand Hotel Era.&nbsp\;<br />\n&nbsp\;&nbsp\; The Hotel Era came into being just after the Civil War with the impact of the growth of railroads transporting tourists to breathe and taste the mountain air of northern New Hampshire. The discussion will also focus on the strong influence of Jewish and Cuban culture on Bethlehem. The talk will also allow the audience a glimpse of the vintage Bethlehem buildings that still remain from the Hotel Era.<br />\n&nbsp\;&nbsp\; Clare Brown has lived in Bethlehem for most of her life. She graduated from the Concord (N.H.) School of Nursing\, and was a school nurse at Profile High School for twenty-two years. She retired in 2002 and worked at the Rocks Christmas Tree Farm for thirteen years.<br />\n&nbsp\;&nbsp\; Admission to the program is free. Donations are accepted. The Littleton Area Historical Society certainly encourages the public to take advantage of the opportunity to see and hear Clare Brown&rsquo\;s unique historical perspective on a once vital time in our past.<br />\n&nbsp\;
LOCATION:Littleton Opera House\, Tower Room. 2 Main Street\, Littleton NH
UID:e.2885.15667
SEQUENCE:3
DTSTAMP:20260423T101801Z
URL:https://business.littletonareachamber.com/events/details/grand-hotels-of-bethlehem-nh-15667
END:VEVENT

END:VCALENDAR
