BEGIN:VCALENDAR
VERSION:2.0
PRODID:-//ChamberMaster//Event Calendar 2.0//EN
METHOD:PUBLISH
X-PUBLISHED-TTL:P3D
REFRESH-INTERVAL:P3D
CALSCALE:GREGORIAN
BEGIN:VEVENT
DTSTART:20230714T200000Z
DTEND:20230715T010000Z
X-MICROSOFT-CDO-ALLDAYEVENT:FALSE
SUMMARY:Friday Night Dirt Duels
DESCRIPTION:Friday Night Dirt Duels will kick off the Crayon 301 NASCAR weekend on Friday\, July 14. This year's event will feature Sprint Cars of New England\, two classes of Granite State Mini Sprints and the Dirt Midget Association battling it out in their respective series at The Flat Track. Don't miss your first chance to get in on the three-day 50/50 Raffle that benefits the New Hampshire Chapter of Speedway Children's Charities\, as it kicks off during Friday Night Dirt Duels. Once the dirt settles\, you can enjoy an amazing fireworks display and rock the night away with a live Shot of Poison concert.
X-ALT-DESC;FMTTYPE=text/html:Friday Night Dirt Duels will kick off the Crayon 301 NASCAR weekend on Friday\, July 14. This year&rsquo\;s event will feature Sprint Cars of New England\, two classes of Granite State Mini Sprints and the Dirt Midget Association battling it out in their respective series at The Flat Track. Don&rsquo\;t miss your first chance to get in on the three-day 50/50 Raffle that benefits the New Hampshire Chapter of Speedway Children&rsquo\;s Charities\, as it kicks off during Friday Night Dirt Duels. Once the dirt settles\, you can enjoy an amazing fireworks display and rock the night away with a live Shot of Poison concert.
LOCATION:The Flat Track at New Hampshire Motor Speedway 1122 Route 106 North Loudon\, NH 03307
UID:e.2885.19307
SEQUENCE:3
DTSTAMP:20260421T112700Z
URL:https://business.littletonareachamber.com/events/details/friday-night-dirt-duels-19307
END:VEVENT

END:VCALENDAR
