BEGIN:VCALENDAR
VERSION:2.0
PRODID:-//ChamberMaster//Event Calendar 2.0//EN
METHOD:PUBLISH
X-PUBLISHED-TTL:P3D
REFRESH-INTERVAL:P3D
CALSCALE:GREGORIAN
BEGIN:VEVENT
DTSTART:20191118T223000Z
DTEND:20191119T003000Z
X-MICROSOFT-CDO-ALLDAYEVENT:FALSE
SUMMARY:Facebook Advertising Explained
DESCRIPTION:Paid ads can overcome Facebook's limits on your business visibility. Learn how to target ads and spend relatively little money to get improved visibility. You'll learn if BOOSTED POSTS are you best bet\, or should you create new ads from scratch. You'll learn how to develop new sales leads with a Facebook Ad that captures people's email addresses. You'll learn how to pinpoint your target audience to reach EXACTLY the person you are trying to reach. You'll learn how to spend $1 a day--or otherwise NOT break the bank--with effective\, strategic Facebook ads.
X-ALT-DESC;FMTTYPE=text/html:Paid ads can overcome Facebook&#39\;s limits on your business visibility. Learn how to target ads and spend relatively little money to get improved visibility. You&#39\;ll learn if BOOSTED POSTS are you best bet\, or should you create new ads from scratch. You&#39\;ll learn how to develop new sales leads with a Facebook Ad that captures people&#39\;s email addresses. You&#39\;ll learn how to pinpoint your target audience to reach EXACTLY the person you are trying to reach. You&#39\;ll learn how to spend $1 a day--or otherwise NOT break the bank--with effective\, strategic Facebook ads.
LOCATION:NHTI\, Concord's Community College Farnum Hall
UID:e.2885.12799
SEQUENCE:3
DTSTAMP:20260424T110834Z
URL:https://business.littletonareachamber.com/events/details/facebook-advertising-explained-12799
END:VEVENT

END:VCALENDAR
