BEGIN:VCALENDAR
VERSION:2.0
PRODID:-//ChamberMaster//Event Calendar 2.0//EN
METHOD:PUBLISH
X-PUBLISHED-TTL:P3D
REFRESH-INTERVAL:P3D
CALSCALE:GREGORIAN
BEGIN:VEVENT
DTSTART:20200206T130000Z
DTEND:20200206T213000Z
X-MICROSOFT-CDO-ALLDAYEVENT:FALSE
SUMMARY:Crisis Management for School-Based Incidents
DESCRIPTION:AUDIENCE: School administrators and staff\, emergency responders\, and law enforcement \n\n \n\nCrisis Management for School-Based Incidents is an eight-hour awareness-level course to educate school administrators\, staff\, emergency responders\, and rural law enforcement personnel to effectively respond to an emergency involving a school building or an entire school system. The training will provide representatives of rural law enforcement departments with a foundation of knowledge and skills that will enable them to progressively establish a school-based emergency response plan and crisis management team through information sharing and training. Topics covered include:\n\n  Intro. to Incident Planning and Preparedness   Proactive thread mitigation   Incident Response   Incident Recovery   Vulnerability assessments   Threat assessment management   Incident defusing and debriefing   Parent unification   Anniversaries\, memorials\, "Copy-Cats." Cost: Free
X-ALT-DESC;FMTTYPE=text/html:<strong><span style="color:#51664D"><span style="font-family:georgia\,serif"><span style="font-size:12.0pt">AUDIENCE: </span></span></span></strong><span style="color:#51664D"><span style="font-family:georgia\,serif"><span style="font-size:12.0pt">School administrators and staff\, emergency responders\, and law enforcement </span></span></span><br />\n&nbsp\;<br />\n<span style="color:#51664D"><span style="font-family:georgia\,serif"><span style="font-size:12.0pt"><a href="http://nchcnh.org/images/NCHCuplds/Crisis_Management_for_School_Feb.pdf">Crisis Management for School-Based Incidents</a> is an eight-hour awareness-level course to educate school administrators\, staff\, emergency responders\, and rural law enforcement personnel to effectively respond to an emergency involving a school building or an entire school system</span></span></span><span style="color:#51664D"><span style="font-family:georgia\,serif"><span style="font-size:12.0pt">. The training will provide representatives of rural law enforcement departments with a foundation of knowledge and skills that will enable them to progressively establish a school-based emergency response plan and crisis management team through information sharing and training. Topics covered include:<br />\n&bull\;</span></span></span> <span style="color:#51664D"><span style="font-family:georgia\,serif"><span style="font-size:12.0pt">Intro. to Incident Planning and Preparedness </span></span></span><span style="color:#51664D"><span style="font-family:georgia\,serif"><span style="font-size:12.0pt">&bull\; Proactive thread mitigation &bull\;</span></span></span><span style="color:#51664D"><span style="font-family:georgia\,serif"><span style="font-size:12.0pt"> Incident Response </span></span></span><span style="color:#51664D"><span style="font-family:georgia\,serif"><span style="font-size:12.0pt">&bull\;</span></span></span><span style="color:#51664D"><span style="font-family:georgia\,serif"><span style="font-size:12.0pt"> Incident Recovery </span></span></span><span style="color:#51664D"><span style="font-family:georgia\,serif"><span style="font-size:12.0pt">&bull\;</span></span></span><span style="color:#51664D"><span style="font-family:georgia\,serif"><span style="font-size:12.0pt"> Vulnerability assessments </span></span></span><span style="color:#51664D"><span style="font-family:georgia\,serif"><span style="font-size:12.0pt">&bull\;</span></span></span><span style="color:#51664D"><span style="font-family:georgia\,serif"><span style="font-size:12.0pt"> Threat assessment management </span></span></span><span style="color:#51664D"><span style="font-family:georgia\,serif"><span style="font-size:12.0pt">&bull\;</span></span></span><span style="color:#51664D"><span style="font-family:georgia\,serif"><span style="font-size:12.0pt"> Incident defusing and debriefing </span></span></span><span style="color:#51664D"><span style="font-family:georgia\,serif"><span style="font-size:12.0pt">&bull\;</span></span></span><span style="color:#51664D"><span style="font-family:georgia\,serif"><span style="font-size:12.0pt"> Parent unification </span></span></span><span style="color:#51664D"><span style="font-family:georgia\,serif"><span style="font-size:12.0pt">&bull\;</span></span></span><span style="color:#51664D"><span style="font-family:georgia\,serif"><span style="font-size:12.0pt"> Anniversaries\, memorials\, &ldquo\;Copy-Cats.&rdquo\;</span></span></span> <span style="color:#51664D"><span style="font-family:georgia\,serif"><span style="font-size:12.0pt">Cost: Free</span></span></span><br />\n&nbsp\;\n<div>&nbsp\;</div>\n
LOCATION:Mount Eustice Commons - 262 Cottage St (AHEAD Conference rm./1st flr.)\, Littleton
UID:e.2885.14971
SEQUENCE:3
DTSTAMP:20260423T100156Z
URL:https://business.littletonareachamber.com/events/details/crisis-management-for-school-based-incidents-14971
END:VEVENT

END:VCALENDAR
