BEGIN:VCALENDAR
VERSION:2.0
PRODID:-//ChamberMaster//Event Calendar 2.0//EN
METHOD:PUBLISH
X-PUBLISHED-TTL:P3D
REFRESH-INTERVAL:P3D
CALSCALE:GREGORIAN
BEGIN:VEVENT
DTSTART:20200303T140000Z
DTEND:20200303T150000Z
X-MICROSOFT-CDO-ALLDAYEVENT:FALSE
SUMMARY:Coffee & Conversation - Pertinent Topics In Our Communities
DESCRIPTION:Join us in March for conversation about pertinent topics in our communities. \n\n \n\nWhat is important to you? \n\nWhat do you feel needs more attention? \n\n \n\nHow can the Chamber help connect\, collaborate or provide resources for you or organization surrounding these topics?
X-ALT-DESC;FMTTYPE=text/html:<div style="background-color: rgb(255\, 255\, 255)\; white-space: pre-wrap\;">\n<div style="white-space: pre-wrap\; text-align: center\;">\n<div style="text-align: left\;">\n<div style="font-family: &quot\;Times New Roman&quot\;\, Times\, serif\; font-size: 16px\; white-space: pre-wrap\; text-align: center\;"><span style="font-family: Georgia\, &quot\;Times New Roman&quot\;\, Times\, serif\; font-size: 18px\; font-weight: bold\;">Join us in March for conversation about pertinent topics in our communities. </span></div>\n\n<div style="font-family: &quot\;Times New Roman&quot\;\, Times\, serif\; font-size: 16px\; white-space: pre-wrap\; text-align: center\;">&nbsp\;</div>\n\n<div style="font-family: &quot\;Times New Roman&quot\;\, Times\, serif\; font-size: 16px\; white-space: pre-wrap\; text-align: center\;"><span style="font-family: Georgia\, &quot\;Times New Roman&quot\;\, Times\, serif\; font-size: 18px\;">What is important to you? </span></div>\n\n<div style="font-family: &quot\;Times New Roman&quot\;\, Times\, serif\; font-size: 16px\; white-space: pre-wrap\; text-align: center\;"><span style="font-family: Georgia\, &quot\;Times New Roman&quot\;\, Times\, serif\; font-size: 18px\;">What do you feel needs more attention? </span></div>\n\n<div style="font-family: &quot\;Times New Roman&quot\;\, Times\, serif\; font-size: 16px\; white-space: pre-wrap\; text-align: center\;">&nbsp\;</div>\n\n<div style="font-family: &quot\;Times New Roman&quot\;\, Times\, serif\; font-size: 16px\; white-space: pre-wrap\; text-align: center\;"><span style="font-family: Georgia\, &quot\;Times New Roman&quot\;\, Times\, serif\; font-size: 18px\;">How can the Chamber help connect\, collaborate or provide resources for you or organization surrounding these topics? </span></div>\n</div>\n</div>\n</div>\n
LOCATION:Littleton Area Chamber of Commerce - Welcome Center 107 Main Street\, Littleton
UID:e.2885.15414
SEQUENCE:3
DTSTAMP:20260423T114542Z
URL:https://business.littletonareachamber.com/events/details/coffee-conversation-pertinent-topics-in-our-communities-15414
END:VEVENT

END:VCALENDAR
