BEGIN:VCALENDAR
VERSION:2.0
PRODID:-//ChamberMaster//Event Calendar 2.0//EN
METHOD:PUBLISH
X-PUBLISHED-TTL:P3D
REFRESH-INTERVAL:P3D
CALSCALE:GREGORIAN
BEGIN:VEVENT
DTSTART:20200326T130000Z
DTEND:20200403T203000Z
X-MICROSOFT-CDO-ALLDAYEVENT:FALSE
SUMMARY:Chronic Disease Self-Management New Leader Training
DESCRIPTION:AUDIENCE: Community member leaders who manage their own and/or are caregivers who helps others to manage their chronic condition(s)\, and have the desire to lead others in the community to thrive with their chronic condition(s).\n\n \n\nLeaders who have been previously trained in CDSMP and are currently active are eligible to participate.\n\n \n\nDo you manage a chronic condition and/or are a caregiver for someone who does? Join the upcoming Chronic Disease Self-Management New Leader Training! You do not have to be a health professional to participate. This 4-day training will prepare you to lead the 6-week CDSMP workshop series known as Better Choices\, Better Health\, an evidence-based program of Stanford University. These workshops are held in the community and lead by trained CDSMP trainers. For this New Leader Training\, it is beneficial to partner with an already-trained CDSMP leader\, or attend the Training with a partner\, if possible\, as you will be asked to commit to offering at least one 6-week workshop with a co-leader within one year\, and ideally 2   3 trainings per year\, to sustain the program. Click the link for  more information on CDSMP. \n\n \nFor questions\, or if you need help to partner with another leader trainer\, contact Nitanga: nitanga@snhahec.org or (603)244-7360
X-ALT-DESC;FMTTYPE=text/html:<strong><span style="color:#51664D"><span style="font-family:georgia\,serif"><span style="font-size:12.0pt">AUDIENCE: </span></span></span></strong><span style="color:#51664D"><span style="font-family:georgia\,serif"><span style="font-size:12.0pt">Community member leaders who manage their own and/or are caregivers who helps others to manage their chronic condition(s)\, and have the desire to lead others in the community to thrive with their chronic condition(s).</span></span></span><br />\n&nbsp\;<br />\n<span style="color:#51664D"><span style="font-family:georgia\,serif"><span style="font-size:12.0pt">Leaders who have been previously trained in CDSMP and are currently active are eligible to participate.</span></span></span><br />\n&nbsp\;<br />\n<span style="color:#51664D"><span style="font-family:georgia\,serif"><span style="font-size:12.0pt">Do you manage a chronic condition and/or are a caregiver for someone who does? Join the upcoming <a href="http://nchcnh.org/images/NCHCuplds/Leader_Training_Spring_Mar_Apr_2.pdf">Chronic Disease Self-Management New Leader Training</a>! You do not have to be a health professional to participate. This 4-day training will prepare you to lead the 6-week CDSMP workshop series known as <em>Better Choices\, Better Health</em>\, an evidence-based program of Stanford University. These workshops are held in the community and lead by trained CDSMP trainers. For this New Leader Training\, it is beneficial to partner with an already-trained CDSMP leader\, or attend the Training with a partner\, if possible\, as you will be asked to commit to offering at least one 6-week workshop with a co-leader within one year\, and ideally 2 &ndash\; 3 trainings per year\, to sustain the program. Click the link for &nbsp\;more information on <a href="https://www.selfmanagementresource.com/programs/small-group/chronic-disease-self-management/">CDSMP</a>.&nbsp\;</span></span></span><br />\n&nbsp\;\n<div><span style="color:#51664D"><span style="font-family:georgia\,serif"><span style="font-size:12.0pt">For questions\, or if you need help to partner with another leader trainer\, contact Nitanga: <a href="mailto:nitanga@snhahec.org">nitanga@snhahec.org</a></span> or (603)244-7360</span></span></div>\n
LOCATION:Foundations for Healthy Communities (Conference rm. 2) 125 Airport Rd\, Concord
UID:e.2885.13946
SEQUENCE:3
DTSTAMP:20260423T114506Z
URL:https://business.littletonareachamber.com/events/details/chronic-disease-self-management-new-leader-training-13946
END:VEVENT

END:VCALENDAR
