BEGIN:VCALENDAR
VERSION:2.0
PRODID:-//ChamberMaster//Event Calendar 2.0//EN
METHOD:PUBLISH
X-PUBLISHED-TTL:P3D
REFRESH-INTERVAL:P3D
CALSCALE:GREGORIAN
BEGIN:VEVENT
DTSTART:20200208T220000Z
DTEND:20200209T010000Z
X-MICROSOFT-CDO-ALLDAYEVENT:FALSE
SUMMARY:Celebrating a Century of Community
DESCRIPTION:The Littleton Community Center (LCC) is hosting a Semi-Formal Cocktail Party in recognition of its 100th anniversary.  Party goers can admire the building's unique architecture and visit with others while enjoying live music\, festive beverages and hors d'oeuvres from Tim-Bir Alley and The Beal House.\n\n\n\nThe LCC non-profit organization was established in 1919 by a group of local residents who wanted to make a 'living\n\nmemorial' to the World War 1 veterans.  It remains in place today to preserve the beautiful historical property and to cultivate a sense of community by providing a place where all people can come together to participate\, share and learn.
X-ALT-DESC;FMTTYPE=text/html:<strong>The Littleton Community Center (LCC) is hosting a Semi-Formal Cocktail Party in recognition of its 100th anniversary.&nbsp\; Party goers can admire the building&#39\;s unique architecture and visit with others while enjoying live music\, festive beverages and hors d&#39\;oeuvres from Tim-Bir Alley and The Beal House.</strong><br />\n<br />\nThe LCC non-profit organization was established in 1919 by a group of local residents who wanted to make a &#39\;living<br />\nmemorial&#39\; to the World War 1 veterans.&nbsp\; It remains in place today to preserve the beautiful historical property and to cultivate a sense of community by providing a place where all people can come together to participate\, share and learn.
LOCATION:120 Main Street Littleton\, NH
UID:e.2885.14976
SEQUENCE:3
DTSTAMP:20260423T100426Z
URL:https://business.littletonareachamber.com/events/details/celebrating-a-century-of-community-14976
END:VEVENT

END:VCALENDAR
