BEGIN:VCALENDAR
VERSION:2.0
PRODID:-//ChamberMaster//Event Calendar 2.0//EN
METHOD:PUBLISH
X-PUBLISHED-TTL:P3D
REFRESH-INTERVAL:P3D
CALSCALE:GREGORIAN
BEGIN:VEVENT
DTSTART;VALUE=DATE:20230701
DTEND;VALUE=DATE:20230702
TRANSP:TRANSPARENT
X-MICROSOFT-CDO-ALLDAYEVENT:TRUE
SUMMARY:Celebrate Independence
DESCRIPTION:Join the Omni Mount Washington Resort and Celebrate Independence over four days filled with spirited fun for the whole family! Try delicious food prepared by our chefs\, participate in our daily activities\, and kick back this summer to enjoy time with family and friends. Everything from an annual pie eating contest to an epic water balloon fight will be topped off with the Omni Mount Washington's fantastic fireworks display! Please note the fireworks display is for resort guests only.
X-ALT-DESC;FMTTYPE=text/html:<span style="font-family:source sans pro\,sans-serif\; font-size:15px">Join the Omni Mount Washington Resort and Celebrate Independence over four days filled with spirited fun for the whole family! Try delicious food prepared by our chefs\, participate in our daily activities\, and kick back this summer to enjoy time with family and friends. Everything from an annual pie eating contest to an epic water balloon fight will be topped off with the Omni Mount Washington&#39\;s fantastic fireworks display! Please note the fireworks display is for resort guests only.</span>
LOCATION:Omni Mount Washington Resort 310 Mt. Washington Hotel Road Bretton Woods\, NH 03575 (603) 278-1000
UID:e.2885.19320
SEQUENCE:3
DTSTAMP:20260421T112609Z
URL:https://business.littletonareachamber.com/events/details/celebrate-independence-19320
END:VEVENT

END:VCALENDAR
