BEGIN:VCALENDAR
VERSION:2.0
PRODID:-//ChamberMaster//Event Calendar 2.0//EN
METHOD:PUBLISH
X-PUBLISHED-TTL:P3D
REFRESH-INTERVAL:P3D
CALSCALE:GREGORIAN
BEGIN:VEVENT
DTSTART;VALUE=DATE:20200207
DTEND;VALUE=DATE:20200208
TRANSP:TRANSPARENT
X-MICROSOFT-CDO-ALLDAYEVENT:TRUE
SUMMARY:CASA-NH's Snowfest at Loon Mountain
DESCRIPTION:Held the first Friday of February for the last 20 years\, Loon generously provides a free day on the slopes with full access to the mountain's activities for CASA volunteers and their families. In addition\, the public is invited to join us by purchasing tickets through CASA for this day of fun. For the great price of $105\, you receive an all-day lift ticket\, continental breakfast\, buffet lunch by the Common Man's Foster's Boiler Room and cap off the event at our apres ski party complete with raffles\, food\, live music and more.
X-ALT-DESC;FMTTYPE=text/html:Held the first Friday of February for the last 20 years\, Loon generously provides a free day on the slopes with full access to the mountain&rsquo\;s activities for CASA volunteers and their families. In addition\, the public is invited to join us by purchasing tickets through CASA for this day of fun. For the great price of $105\, you receive an all-day lift ticket\, continental breakfast\, buffet lunch by the Common Man&rsquo\;s Foster&rsquo\;s Boiler Room and cap off the event at our apres ski party complete with raffles\, food\, live music and more.
LOCATION:Loon Mountain 60 Loon Mountain Road Lincoln\, NH 03251
UID:e.2885.14970
SEQUENCE:3
DTSTAMP:20260423T100417Z
URL:https://business.littletonareachamber.com/events/details/casa-nh-s-snowfest-at-loon-mountain-14970
END:VEVENT

END:VCALENDAR
