BEGIN:VCALENDAR
VERSION:2.0
PRODID:-//ChamberMaster//Event Calendar 2.0//EN
METHOD:PUBLISH
X-PUBLISHED-TTL:P3D
REFRESH-INTERVAL:P3D
CALSCALE:GREGORIAN
BEGIN:VEVENT
DTSTART:20200319T213000Z
DTEND:20200319T230000Z
X-MICROSOFT-CDO-ALLDAYEVENT:FALSE
SUMMARY:Cancelled - Pizza and Conversation with CASA at Littleton Food Co-Op
DESCRIPTION:The opioid epidemic has taken a toll on New Hampshire's children. If you are interested in potentially becoming a CASA advocate\, or just learning more about the CASA organization and its volunteer advocates who are making a positive impact in your community\, we invite you to join us. Pizza and beverages will be served.\n\n\n\nThursday\, March 19th\n\n5:30 - 7:00\n\n\n\nLittleton Food Co-Op\n\n\n\nPlease RSVP to Andrea Brochu at abrochu@casanh.org.
X-ALT-DESC;FMTTYPE=text/html:<p>The opioid epidemic has taken a toll on New Hampshire&rsquo\;s children. If you are interested in potentially becoming a CASA advocate\, or just learning more about the CASA organization and its volunteer advocates who are making a positive impact in your community\, we invite you to join us. Pizza and beverages will be served.<br />\n<br />\nThursday\, March 19th<br />\n5:30 - 7:00<br />\n<br />\nLittleton Food Co-Op<br />\n<br />\nPlease RSVP to Andrea Brochu at abrochu@casanh.org.<br />\n&nbsp\;</p>\n
LOCATION:
UID:e.2885.15684
SEQUENCE:3
DTSTAMP:20260423T115631Z
URL:https://business.littletonareachamber.com/events/details/cancelled-pizza-and-conversation-with-casa-at-littleton-food-co-op-15684
END:VEVENT

END:VCALENDAR
