BEGIN:VCALENDAR
VERSION:2.0
PRODID:-//ChamberMaster//Event Calendar 2.0//EN
METHOD:PUBLISH
X-PUBLISHED-TTL:P3D
REFRESH-INTERVAL:P3D
CALSCALE:GREGORIAN
BEGIN:VEVENT
DTSTART:20200314T140000Z
DTEND:20200314T170000Z
X-MICROSOFT-CDO-ALLDAYEVENT:FALSE
SUMMARY:Cancelled - North Country Homebuyer Fair
DESCRIPTION:Get started on your path to home ownership!\n\nTalk with professionals in the home buying process\, including counseling agencies\, lenders\, real estate\n\nagents\, and more!
X-ALT-DESC;FMTTYPE=text/html:Get started on your path to home ownership!<br />\nTalk with professionals in the home buying process\, including counseling agencies\, lenders\, real estate<br />\nagents\, and more!
LOCATION:Littleton Opera House 2 Union Street\, Littleton\, NH
UID:e.2885.15668
SEQUENCE:3
DTSTAMP:20260423T114916Z
URL:https://business.littletonareachamber.com/events/details/cancelled-north-country-homebuyer-fair-15668
END:VEVENT

END:VCALENDAR
