BEGIN:VCALENDAR
VERSION:2.0
PRODID:-//ChamberMaster//Event Calendar 2.0//EN
METHOD:PUBLISH
X-PUBLISHED-TTL:P3D
REFRESH-INTERVAL:P3D
CALSCALE:GREGORIAN
BEGIN:VEVENT
DTSTART:20200321T140000Z
DTEND:20200322T190000Z
X-MICROSOFT-CDO-ALLDAYEVENT:FALSE
SUMMARY:Cancelled - Maple Weekend at Fuller’s Sugarhouse
DESCRIPTION:March is Maple Month\, a great time to visit and see Fuller's Sugarhouse in full effect. Each spring we tap more than 26\,000 trees and boil half a million gallons of maple sap to produce 11\,000 gallons of our pure maple syrup. Visit us at our two locations   our Sugarhouse and Country Store   during Maple Weekend\, March 21 + 22 for the ultimate maple sugaring experience!   Sugarhouse in Jefferson Head out on a walking tour of the woods and see how we collect the sap from the maple trees. (Please dress accordingly for the weather and muddy conditions). Inside the sugarhouse\, see how we convert the sap into our pure maple syrup. If weather permits\, we will be boiling the sap. We'll be serving sugar-on-snow and samples of our 2020 crop. Our products will be available for purchase.   Country Store in Lancaster Treat yourself to samples of our 2020 crop and complimentary coffee and donuts as you shop our Country Store. It is fully stocked with all of our pure maple products and other New Hampshire and New England-made products.
X-ALT-DESC;FMTTYPE=text/html:March is Maple Month\, a great time to visit and see Fuller&rsquo\;s Sugarhouse in full effect. Each spring we tap more than 26\,000 trees and boil half a million gallons of maple sap to produce 11\,000 gallons of our pure maple syrup. Visit us at our two locations &ndash\; our Sugarhouse and Country Store &ndash\; during Maple Weekend\, March 21 + 22 for the ultimate maple sugaring experience! &nbsp\; Sugarhouse in Jefferson Head out on a walking tour of the woods and see how we collect the sap from the maple trees. (Please dress accordingly for the weather and muddy conditions). Inside the sugarhouse\, see how we convert the sap into our pure maple syrup. If weather permits\, we will be boiling the sap. We&rsquo\;ll be serving sugar-on-snow and samples of our 2020 crop. Our products will be available for purchase. &nbsp\; Country Store in Lancaster Treat yourself to samples of our 2020 crop and complimentary coffee and donuts as you shop our Country Store. It is fully stocked with all of our pure maple products and other New Hampshire and New England-made products.
LOCATION:Sugarhouse: 2021 White Mountain Highway in Jefferson\, NH 03583 Country Store: 267 Main Street\, Lancaster\, NH 03584
UID:e.2885.15677
SEQUENCE:3
DTSTAMP:20260423T114544Z
URL:https://business.littletonareachamber.com/events/details/cancelled-maple-weekend-at-fuller-s-sugarhouse-15677
END:VEVENT

END:VCALENDAR
