BEGIN:VCALENDAR
VERSION:2.0
PRODID:-//ChamberMaster//Event Calendar 2.0//EN
METHOD:PUBLISH
X-PUBLISHED-TTL:P3D
REFRESH-INTERVAL:P3D
CALSCALE:GREGORIAN
BEGIN:VEVENT
DTSTART:20200328T230000Z
DTEND:20200329T010000Z
X-MICROSOFT-CDO-ALLDAYEVENT:FALSE
SUMMARY:Cancelled - Comedian "The Logger"
DESCRIPTION:Comedian Rusty DeWees as The Logger will performing his one man show to benefit North Country Charter Academy's scholarship fund! Come have a wonderful night of fun and laughter! Get your tickets by calling 603-444-1535 or go to our website at www.northcountrycharteracademy.com.
X-ALT-DESC;FMTTYPE=text/html:Comedian Rusty DeWees as The Logger will performing his one man show to benefit North Country Charter Academy&#39\;s scholarship fund! Come have a wonderful night of fun and laughter! Get your tickets by calling 603-444-1535 or go to our website at www.northcountrycharteracademy.com.<br />\n&nbsp\;
LOCATION:Lancaster Town Hall\, Lancaster NH
UID:e.2885.15665
SEQUENCE:3
DTSTAMP:20260423T114509Z
URL:https://business.littletonareachamber.com/events/details/cancelled-comedian-the-logger-15665
END:VEVENT

END:VCALENDAR
