BEGIN:VCALENDAR
VERSION:2.0
PRODID:-//ChamberMaster//Event Calendar 2.0//EN
METHOD:PUBLISH
X-PUBLISHED-TTL:P3D
REFRESH-INTERVAL:P3D
CALSCALE:GREGORIAN
BEGIN:VEVENT
DTSTART:20200420T220000Z
DTEND:20200420T233000Z
X-MICROSOFT-CDO-ALLDAYEVENT:FALSE
SUMMARY:Cancelled - Chamber Travel Information Session
DESCRIPTION:Join the Chamber and a representative from Collette Tours to hear about the 2021 Irish Splendor group travel opportunity. All are welcome on this amazing trip and anyone interested in more information or registration is encouraged to come to this information session. By attending this session you are not obligated to travel with the Chamber and Collette\, but chances are after you hear about the trip\, you'll want to.
X-ALT-DESC;FMTTYPE=text/html:<span style="font-size:14px\;"><strong>Join the Chamber and a representative from Collette Tours to hear about the 2021 Irish Splendor group travel opportunity. All are welcome on this amazing trip and anyone interested in more information or registration is encouraged to come to this information session. By attending this session you are not obligated to travel with the Chamber and Collette\, but chances are after you hear about the trip\, you&#39\;ll want to.&nbsp\;</strong></span>
LOCATION:Littleton Area Chamber of Commerce 107 Main Street at Thayers Inn Littleton
UID:e.2885.15655
SEQUENCE:3
DTSTAMP:20260421T202011Z
URL:https://business.littletonareachamber.com/events/details/cancelled-chamber-travel-information-session-15655
END:VEVENT

END:VCALENDAR
