BEGIN:VCALENDAR
VERSION:2.0
PRODID:-//ChamberMaster//Event Calendar 2.0//EN
METHOD:PUBLISH
X-PUBLISHED-TTL:P3D
REFRESH-INTERVAL:P3D
CALSCALE:GREGORIAN
BEGIN:VEVENT
DTSTART:20200318T210000Z
DTEND:20200318T230000Z
X-MICROSOFT-CDO-ALLDAYEVENT:FALSE
SUMMARY:Cancelled - Business After Hours @ The Inkwell Coffee & Teahouse
DESCRIPTION:As of Monday\, March 16th this event has been cancelled out of an abundance of caution. We hope to plan an exciting event involving Ink Well in the near future. \n\n\n\nJoin us for networking at Littleton's hottest and coziest coffee and tea spot on the riverfront.  This event features special coffee drink samples\, a chat with the roaster from Cafe Monte Alto with history on the bean farm in Peru\, an amazing raffle prize valued at $100\, and more!
X-ALT-DESC;FMTTYPE=text/html:<span style="font-size:16px\;"><span style="font-family:arial\;"><strong>As of Monday\, March 16th this event has been cancelled out of an abundance of caution. We hope to plan an exciting event involving Ink Well in the near future.&nbsp\;</strong><br />\n<br />\nJoin us for networking at Littleton&#39\;s hottest and coziest coffee and tea spot on the riverfront.&nbsp\; This event features<span style="color: rgb(34\, 34\, 34)\;">&nbsp\;special&nbsp\;coffee drink samples\, a chat with the roaster from Cafe Monte Alto with history on the bean farm in Peru\, an amazing raffle prize valued at $100\, and more!</span></span></span>
LOCATION:42 Mill Street\, Littleton
UID:e.2885.15408
SEQUENCE:3
DTSTAMP:20260423T114828Z
URL:https://business.littletonareachamber.com/events/details/cancelled-business-after-hours-the-inkwell-coffee-teahouse-15408
END:VEVENT

END:VCALENDAR
