BEGIN:VCALENDAR
VERSION:2.0
PRODID:-//ChamberMaster//Event Calendar 2.0//EN
METHOD:PUBLISH
X-PUBLISHED-TTL:P3D
REFRESH-INTERVAL:P3D
CALSCALE:GREGORIAN
BEGIN:VEVENT
DTSTART:20200217T180000Z
DTEND:20200323T193000Z
X-MICROSOFT-CDO-ALLDAYEVENT:FALSE
SUMMARY:Cancelled - Better Choices\, Better Health – Chronic Disease Self-Management Workshop (6-week Series)
DESCRIPTION:AUDIENCE: For community members who are managing a chronic health condition or caring for someone who is \n\n \n\nAre you dealing with an ongoing health condition? Are you a caregiver for another person? Join the upcoming Better Choices\, Better Health 6-week series with NCHC Community Health Workers\, Amber and John\, to: \n\n  Feel better   Be in charge of your life   Do the things you want to do   Learn practical ways to deal with the problems of chronic health conditions   Get the support you need   Discover better nutrition and exercise choices   Understand new treatment options   Manage your medications   Practice disease-related problem solving   Improve communication with your physician and family about your health issues   Develop a better partnership with your physician... and more!
X-ALT-DESC;FMTTYPE=text/html:<p><strong><span style="color:#51664D"><span style="font-family:georgia\,serif"><span style="font-size:12.0pt">AUDIENCE: </span></span></span></strong><span style="color:#51664D"><span style="font-family:georgia\,serif"><span style="font-size:12.0pt">For community members who are managing a chronic health condition or caring for someone who is </span></span></span><br />\n&nbsp\;<br />\n<span style="color:#51664D"><span style="font-family:georgia\,serif"><span style="font-size:12.0pt">Are you dealing with an ongoing health condition? Are you a caregiver for another person? Join the upcoming </span></span></span><a href="http://nchcnh.org/images/NCHCuplds/CHW_CDSMP_Training_Flyer_2020_We.pdf"><span style="font-family:georgia\,serif"><span style="font-size:12.0pt">Better Choices\, Better Health</span></span></a><span style="color:#51664D"><span style="font-family:georgia\,serif"><span style="font-size:12.0pt"> 6-week series with NCHC Community Health Workers\, Amber and John\, to: </span></span></span></p>\n\n<p><span style="color:#51664D"><span style="font-family:georgia\,serif"><span style="font-size:12.0pt">&bull\; Feel better &bull\; Be in charge of your life &bull\; Do the things you want to do &bull\; Learn practical ways to deal with the problems of chronic health conditions &bull\; Get the support you need &bull\; Discover better nutrition and exercise choices &bull\; Understand new treatment options &bull\; Manage your medications &bull\; Practice disease-related problem solving &bull\; Improve communication with your physician and family about your health issues &bull\; Develop a better partnership with your physician... and more!</span></span></span></p>\n
LOCATION:Weeks Medical Center 173 Middles St\, Lancaster
UID:e.2885.13911
SEQUENCE:3
DTSTAMP:20260423T100637Z
URL:https://business.littletonareachamber.com/events/details/cancelled-better-choices-better-health-chronic-disease-self-management-workshop-6-week-series-13911
END:VEVENT

END:VCALENDAR
