BEGIN:VCALENDAR
VERSION:2.0
PRODID:-//ChamberMaster//Event Calendar 2.0//EN
METHOD:PUBLISH
X-PUBLISHED-TTL:P3D
REFRESH-INTERVAL:P3D
CALSCALE:GREGORIAN
BEGIN:VEVENT
DTSTART:20200613T150000Z
DTEND:20200613T170000Z
X-MICROSOFT-CDO-ALLDAYEVENT:FALSE
SUMMARY:CANCELLED - 2020 POLLYANNA Day Event...
DESCRIPTION:2020 Pollyanna Day / Saturday June 13th Event is cancelled\, positively regarding current safe\, social guidelines.    \n\n\n\nNote: Commonly the Sculpture is the site of the NH Pollyanna Day celebration. The upcoming 2020 Official Pollyanna Day (June 13) celebration is fully cancelled due to Covid-19. The public gathering including the Public ceremony\, Group wave\, and celebration Photo will not be held this June in favor of community well-being and Optimism.  Follow updates: GoLittleton.com\n\nThe iconic and beautiful Pollyanna Sculpture is the popular attraction where people come to Be Glad\, admire and visit Pollyanna (on the official day) and delightfully everyday throughout the rest of the year.... \n\nPOLLYANNA is welcoming...the open-air Fine Art Sculpture in her energetic pose\, popular with photographers\, is cheerful and inviting for families\, groups and individuals. One's own welcoming Wave and full smile\, chin-up -- matching Pollyanna -- makes a great "selfie'. \n\n\n\nA Pollyanna of Littleton NH experience becomes irresistible\, and unique!  BEST PUBLIC ART of New Hampshire and other accolades add to the charm\, history and year-round inspiring presence of the bronze Pollyanna. Visitors arrival onsite at the Sculpture from many local and faraway places\; residents and passers-by take bright and regular notice\; and Admirers worldwide connect online.      \n\n\n\nBe Glad. Be Cheerful. Stay Well.
X-ALT-DESC;FMTTYPE=text/html:<h4><strong><span style="font-family:arial\,sans-serif\;"><span style="font-size:10pt\;">2020 Pollyanna Day / Saturday June 13th Event is cancelled\, </span></span></strong><span style="font-family:arial\,sans-serif\;"><span style="font-size:10pt\;">positively regarding current safe\, social guidelines. &nbsp\; &nbsp\;<br />\n<br />\n<strong>Note</strong>: Commonly the Sculpture is the site of the NH Pollyanna Day celebration. The upcoming 2020 Official Pollyanna Day (June 13) celebration is fully cancelled due to Covid-19. The public gathering including the Public ceremony\, Group wave\, and celebration Photo will not be held this June in favor of community well-being and Optimism.&nbsp\; <strong>Follow updates: GoLittleton.com</strong></span></span><br />\n<span style="background-image:initial\;background-position:initial\;background-size:initial\;background-repeat:initial\;background-attachment:initial\;background-origin:initial\;background-clip:initial\;"><span style="font-family:arial\,sans-serif\;"><span style="font-size:10pt\;">The iconic and beautiful Pollyanna Sculpture is the popular attraction where people come to Be Glad\, admire and visit </span></span></span><em><span style="font-family:arial\,sans-serif\;"><span style="font-size:10pt\;">Pollyanna</span></span></em><span style="background-image:initial\;background-position:initial\;background-size:initial\;background-repeat:initial\;background-attachment:initial\;background-origin:initial\;background-clip:initial\;"><span style="font-family:arial\,sans-serif\;"><span style="font-size:10pt\;"> (on the official day) and delightfully everyday throughout the rest of the year....&nbsp\;</span></span></span><br />\n<span style="font-family:arial\,sans-serif\;"><span style="font-size:10pt\;"><strong>POLLYANNA is welcoming..</strong><span style="background-image:initial\;background-position:initial\;background-size:initial\;background-repeat:initial\;background-attachment:initial\;background-origin:initial\;background-clip:initial\;">.the open-air Fine Art Sculpture in her</span> energetic <span style="background-image:initial\;background-position:initial\;background-size:initial\;background-repeat:initial\;background-attachment:initial\;background-origin:initial\;background-clip:initial\;">pose\, popular with photographers\, is cheerful and inviting for families\, groups and individuals. One&#39\;s own welcoming Wave and full smile\, chin-up -- matching </span><em>Pollyanna</em><span style="background-image:initial\;background-position:initial\;background-size:initial\;background-repeat:initial\;background-attachment:initial\;background-origin:initial\;background-clip:initial\;"> -- makes a great &quot\;selfie&#39\;.&nbsp\;</span><br />\n<br />\n<span style="background-image:initial\;background-position:initial\;background-size:initial\;background-repeat:initial\;background-attachment:initial\;background-origin:initial\;background-clip:initial\;">A </span><em>Pollyanna of Littleton NH</em><span style="background-image:initial\;background-position:initial\;background-size:initial\;background-repeat:initial\;background-attachment:initial\;background-origin:initial\;background-clip:initial\;"> experience becomes irresistible\, and unique!&nbsp\; BEST PUBLIC ART of New Hampshire and other accolades add to the charm\, history and year-round inspiring presence of the bronze Pollyanna. Visitors arrival onsite at the Sculpture from many local and faraway places\; residents and passers-by take bright and regular notice\; and Admirers worldwide connect online. &nbsp\; &nbsp\;&nbsp\; </span></span></span><br />\n<br />\n<span style="background-image:initial\;background-position:initial\;background-size:initial\;background-repeat:initial\;background-attachment:initial\;background-origin:initial\;background-clip:initial\;"><span style="font-family:arial\,sans-serif\;"><span style="font-size:10pt\;"><em><strong>Be Glad. Be Cheerful. Stay Well.&nbsp\;</strong></em></span></span></span><br />\n&nbsp\;</h4>\n
LOCATION:Sculpture: Pollyanna of Littleton - New Hampshire's Most Welcoming Attraction presides -as an artful and symbolic ambassador of gladness - on the lawn of Littleton Public Library\, Main Street\, historic Downtown Littleton NH. There\, on Main Street - Pollyanna can be the start to other delights downtown along Main Street and the riverside. Visit the Glad Shop for souvenirs and information. The Pollyanna Gateway: A vibrant history then and now - Explore the charming downtown on a self-guided Walking Tour - (no contact).
UID:e.2885.17184
SEQUENCE:3
DTSTAMP:20260423T155325Z
URL:https://business.littletonareachamber.com/events/details/cancelled-2020-pollyanna-day-event-17184
END:VEVENT

END:VCALENDAR
