BEGIN:VCALENDAR
VERSION:2.0
PRODID:-//ChamberMaster//Event Calendar 2.0//EN
METHOD:PUBLISH
X-PUBLISHED-TTL:P3D
REFRESH-INTERVAL:P3D
CALSCALE:GREGORIAN
BEGIN:VEVENT
DTSTART:20200212T220000Z
DTEND:20200213T000000Z
X-MICROSOFT-CDO-ALLDAYEVENT:FALSE
SUMMARY:Business After Hours @ Rek'-Lis Brewing
DESCRIPTION:Join the Chamber and Rek'-Lis Brewing Company for our first Business After Hours of 2020.\n\nWe'll get a sneak peek at the new brewing facility on site and hear more about the success and future plans of Rek'-Lis... all while networking with some of the areas greatest business people!
X-ALT-DESC;FMTTYPE=text/html:<span style="font-size:16px\;"><span style="font-family:arial\;"><strong>Join the Chamber and Rek&#39\;-Lis Brewing Company for our first Business After Hours of 2020.<br />\nWe&#39\;ll get a sneak peek at the new brewing facility on site and hear more about the success and future plans of Rek&#39\;-Lis... all while networking with some of the areas greatest business people!</strong></span></span>
LOCATION:2085 Main Street\, Bethlehem
UID:e.2885.15410
SEQUENCE:3
DTSTAMP:20260423T100252Z
URL:https://business.littletonareachamber.com/events/details/business-after-hours-rek-lis-brewing-15410
END:VEVENT

END:VCALENDAR
