BEGIN:VCALENDAR
VERSION:2.0
PRODID:-//ChamberMaster//Event Calendar 2.0//EN
METHOD:PUBLISH
X-PUBLISHED-TTL:P3D
REFRESH-INTERVAL:P3D
CALSCALE:GREGORIAN
BEGIN:VEVENT
DTSTART;VALUE=DATE:20200308
DTEND;VALUE=DATE:20200309
TRANSP:TRANSPARENT
X-MICROSOFT-CDO-ALLDAYEVENT:TRUE
SUMMARY:Bretton Woods Nordic Marathon
DESCRIPTION:Staged between the historic Mount Washington Hotel and majestic Mount Washington\, the New England Ski Museum's Bretton Woods Nordic Marathon at Omni Mount Washington Resort has quickly become a North Country winter tradition. This 42-kilometer\, classic-format\, cross-country ski race showcases one of the largest Nordic systems in the northeast. In the tracks of the famed 1982 US National Championships and such legends as Bill Koch and Tim Caldwell\, this race is steeped in history and Nordic skiing tradition. The course layout provides a challenge to experienced racers while making use of terrain that is accessible and enjoyable for skiers of all abilities.
X-ALT-DESC;FMTTYPE=text/html:<!--StartFragment--><span style="background-color:rgb(255\, 255\, 255)\; color:rgb(51\, 51\, 51)\; font-family:source sans pro\,sans-serif\; font-size:15px">Staged between the historic Mount Washington Hotel and majestic Mount Washington\,&nbsp\;the New England Ski Museum&rsquo\;s Bretton Woods Nordic Marathon at Omni Mount Washington Resort has quickly become a North Country winter tradition. This 42-kilometer\, classic-format\, cross-country ski race showcases one of the largest Nordic systems in the northeast. In the tracks of the famed 1982 US National Championships and such legends as Bill Koch and Tim Caldwell\, this race is steeped in history and Nordic skiing tradition. The course layout provides a challenge to experienced racers while making use of terrain that is accessible and enjoyable for skiers of all abilities.</span><!--EndFragment-->
LOCATION:Bretton Woods Nordic Center
UID:e.2885.15192
SEQUENCE:3
DTSTAMP:20260423T114544Z
URL:https://business.littletonareachamber.com/events/details/bretton-woods-nordic-marathon-15192
END:VEVENT

END:VCALENDAR
